BEGIN:VCALENDAR
VERSION:2.0
PRODID:-//WTC Turku - ECPv6.15.20//NONSGML v1.0//EN
CALSCALE:GREGORIAN
METHOD:PUBLISH
X-WR-CALNAME:WTC Turku
X-ORIGINAL-URL:https://wtc-turku.fi/?lang=en
X-WR-CALDESC:Events for WTC Turku
REFRESH-INTERVAL;VALUE=DURATION:PT1H
X-Robots-Tag:noindex
X-PUBLISHED-TTL:PT1H
BEGIN:VTIMEZONE
TZID:Europe/Helsinki
BEGIN:DAYLIGHT
TZOFFSETFROM:+0200
TZOFFSETTO:+0300
TZNAME:EEST
DTSTART:20220327T010000
END:DAYLIGHT
BEGIN:STANDARD
TZOFFSETFROM:+0300
TZOFFSETTO:+0200
TZNAME:EET
DTSTART:20221030T010000
END:STANDARD
BEGIN:DAYLIGHT
TZOFFSETFROM:+0200
TZOFFSETTO:+0300
TZNAME:EEST
DTSTART:20230326T010000
END:DAYLIGHT
BEGIN:STANDARD
TZOFFSETFROM:+0300
TZOFFSETTO:+0200
TZNAME:EET
DTSTART:20231029T010000
END:STANDARD
BEGIN:DAYLIGHT
TZOFFSETFROM:+0200
TZOFFSETTO:+0300
TZNAME:EEST
DTSTART:20240331T010000
END:DAYLIGHT
BEGIN:STANDARD
TZOFFSETFROM:+0300
TZOFFSETTO:+0200
TZNAME:EET
DTSTART:20241027T010000
END:STANDARD
END:VTIMEZONE
BEGIN:VEVENT
DTSTART;TZID=Europe/Helsinki:20231107T150000
DTEND;TZID=Europe/Helsinki:20231107T163000
DTSTAMP:20260419T185059
CREATED:20231004T091014Z
LAST-MODIFIED:20231004T091014Z
UID:5669-1699369200-1699374600@wtc-turku.fi
SUMMARY:Akateeminen & WTC Turku Book Club
DESCRIPTION:We’re proud to announce a brand new collaboration to bring you the edge you need. This is the newest way in the Turku region to network\, learn and get the required advantage in growing your business\, professional expertise and knowledge. Akateeminen and WTC Turku bring you the book club where we read classic business books\, new releases on economics and various publications on professional and personal development. We’ll meet live every few months at the Akateeminen store in Turku (Yliopistonkatu 27\, 20100 Turku) to share our opinions and insights on the most recent book. \nOn Tuesday\, November 7th\, we’ll meet at 15.00 to discuss Brave New Work by Aaron Dignan. If you pick up this month’s book at the Akateeminen store\, you’ll get a 20% discount when mentioning WTC/World Trade Center Book Club (tai suomeksi WTC Kirjakerho). \nDuring the book club meeting at the store\, Akateeminen offers the participants a 20% discount on books\, stationery and artists’ supplies. \nThe book club meetings will be in English and most books we’ll read will be mostly available only in English.
URL:https://wtc-turku.fi/event/akateeminen-wtc-turku-book-club/?lang=en
LOCATION:Akateeminen\, Yliopistonkatu 27\, Turku\, 20100\, Finland
ATTACH;FMTTYPE=image/jpeg:https://wtc-turku.fi/wp-content/uploads/2023/10/Akateeminen-x-WTC-BookClub.jpg
END:VEVENT
END:VCALENDAR