BEGIN:VCALENDAR
VERSION:2.0
PRODID:-//WTC Turku - ECPv6.15.20//NONSGML v1.0//EN
CALSCALE:GREGORIAN
METHOD:PUBLISH
X-ORIGINAL-URL:https://wtc-turku.fi/?lang=en
X-WR-CALDESC:Events for WTC Turku
REFRESH-INTERVAL;VALUE=DURATION:PT1H
X-Robots-Tag:noindex
X-PUBLISHED-TTL:PT1H
BEGIN:VTIMEZONE
TZID:Europe/Helsinki
BEGIN:DAYLIGHT
TZOFFSETFROM:+0200
TZOFFSETTO:+0300
TZNAME:EEST
DTSTART:20220327T010000
END:DAYLIGHT
BEGIN:STANDARD
TZOFFSETFROM:+0300
TZOFFSETTO:+0200
TZNAME:EET
DTSTART:20221030T010000
END:STANDARD
BEGIN:DAYLIGHT
TZOFFSETFROM:+0200
TZOFFSETTO:+0300
TZNAME:EEST
DTSTART:20230326T010000
END:DAYLIGHT
BEGIN:STANDARD
TZOFFSETFROM:+0300
TZOFFSETTO:+0200
TZNAME:EET
DTSTART:20231029T010000
END:STANDARD
BEGIN:DAYLIGHT
TZOFFSETFROM:+0200
TZOFFSETTO:+0300
TZNAME:EEST
DTSTART:20240331T010000
END:DAYLIGHT
BEGIN:STANDARD
TZOFFSETFROM:+0300
TZOFFSETTO:+0200
TZNAME:EET
DTSTART:20241027T010000
END:STANDARD
END:VTIMEZONE
BEGIN:VEVENT
DTSTART;TZID=Europe/Helsinki:20231114T090000
DTEND;TZID=Europe/Helsinki:20231114T100000
DTSTAMP:20260419T185228
CREATED:20231031T121531Z
LAST-MODIFIED:20231106T132451Z
UID:5691-1699952400-1699956000@wtc-turku.fi
SUMMARY:Webinar: Opportunities of Indonesia’s new capital project Nusantara
DESCRIPTION:This webinar is in English – Tämä webinaari on englanninkielinen. \nIndonesia is undergoing a historic transformation with the relocation of its capital city from overpopulated Jakarta to a city named Nusantara in East Kalimantan. The new capital is to become a smart\, high tech and green metropolis run on renewable energy. \nThe city is literally built from scratch\, which will require huge investment from Indonesian government and international investors. At the same time\, it offers unique opportunities to showcase solutions in various sectors\, such as education\, connectivity\, digitalisation\, energy\, housing\, technology\, financial center and development\, as well as waste management. \nIn the webinar you will learn more about the project\, how to access the market and the funding opportunities. \nRegister to the event\nOpening of the webinar\nOlli Hakala\nLiaison Manager\, Turku Chamber of Commerce \nMegumi Hayashi\nTurku Science Park\nSenior specialist\, internationlisaton services \nNusantara New capital and the Finnish involvement\nNina Jacoby\nSenior Advisor\, Business Finland \nNusantara as an opportunity for Finnish companies\nPertti Kortejärvi\nCEO\, Smart City Innovation Cluster \nFinnpartnership financing and possibility for piloting\nJulian Blom\nGlobal Gateway Project Lead\, Finnpartnership \nThe webinar is organized as a part of Finland Chamber of Commerce’ Internationalization Week and  produced by Promoting Exports to International NGOs (INGOs) project. The project aims to help Finnish and Nordic SMEs into procurement process of large international NGOs\, such as the United Nations\, Red Cross\, IMF\, World Bank\, etc.\, whose estimated annual market is $20 Billion. INGOs organize webinars on the opportunities\, challenges\, tips and successful examples of doing business with international NGOs. \nThe webinar is organized in cooperation with Turku Chamber of Commerce and Turku Science Park.
URL:https://wtc-turku.fi/event/webinar-opportunities-of-indonesias-new-capital-project-nusantara/?lang=en
LOCATION:Online
ATTACH;FMTTYPE=image/jpeg:https://wtc-turku.fi/wp-content/uploads/2023/10/Webinar.jpg
END:VEVENT
END:VCALENDAR