BEGIN:VCALENDAR
VERSION:2.0
PRODID:-//WTC Turku - ECPv6.15.20//NONSGML v1.0//EN
CALSCALE:GREGORIAN
METHOD:PUBLISH
X-WR-CALNAME:WTC Turku
X-ORIGINAL-URL:https://wtc-turku.fi/?lang=en
X-WR-CALDESC:Events for WTC Turku
REFRESH-INTERVAL;VALUE=DURATION:PT1H
X-Robots-Tag:noindex
X-PUBLISHED-TTL:PT1H
BEGIN:VTIMEZONE
TZID:Europe/Helsinki
BEGIN:DAYLIGHT
TZOFFSETFROM:+0200
TZOFFSETTO:+0300
TZNAME:EEST
DTSTART:20230326T010000
END:DAYLIGHT
BEGIN:STANDARD
TZOFFSETFROM:+0300
TZOFFSETTO:+0200
TZNAME:EET
DTSTART:20231029T010000
END:STANDARD
BEGIN:DAYLIGHT
TZOFFSETFROM:+0200
TZOFFSETTO:+0300
TZNAME:EEST
DTSTART:20240331T010000
END:DAYLIGHT
BEGIN:STANDARD
TZOFFSETFROM:+0300
TZOFFSETTO:+0200
TZNAME:EET
DTSTART:20241027T010000
END:STANDARD
BEGIN:DAYLIGHT
TZOFFSETFROM:+0200
TZOFFSETTO:+0300
TZNAME:EEST
DTSTART:20250330T010000
END:DAYLIGHT
BEGIN:STANDARD
TZOFFSETFROM:+0300
TZOFFSETTO:+0200
TZNAME:EET
DTSTART:20251026T010000
END:STANDARD
END:VTIMEZONE
BEGIN:VEVENT
DTSTART;TZID=Europe/Helsinki:20240108T123000
DTEND;TZID=Europe/Helsinki:20240108T160000
DTSTAMP:20260419T190224
CREATED:20231127T080259Z
LAST-MODIFIED:20231218T071327Z
UID:5810-1704717000-1704729600@wtc-turku.fi
SUMMARY:NATO:n tuomat mahdollisuudet Turun seudun yrityksille
DESCRIPTION:Turun seudun yritys\, ilmoittaudu mukaan NATO-yritysiltapäivään 8.1.2024! Tilaisuus järjestetään Vierailu- ja innovaatiokeskus Joen toisen kerroksen Putous auditoriossa klo 12.30-16.00. \nTapahtumassa kuulet NATO-jäsenyytemme tuomista mahdollisuuksista erityisesti yrityksille. Tilaisuudessa perehdytään erityisesti NATO:n rahoitus- ja innovaatiopalveluihin sekä hankintatoimeen. \nPäivän aikana käymme läpi mahdollisuudet\, jotka NATO-jäsenyys tuo mukanaan yrityksille. Samalla tapahtuma mahdollistaa sen\, että voimme jatkaa seudullista työskentelyä vahvuuksiemme tunnistamisessa ja mahdollisesti resursoida strategiset tavoitteemme NATO:n suhteen. \nOhjelma \n12.30                Kahvitarjoilu \n13.00                Tilaisuuden avaus\, Janne Mustonen\, Business Turku \n13.10                Puolustushallinnon katsaus NATO:on\, Ville Elo\, puolustusministeriö \n13.30                NATO:n mahdollisuudet ja yhteistyökanavat yrityksille \n\nNATO:n hankintatoimi ja tutkimusyhteistyö\, Tapio Halkola / Tuija Karanko\, Puolustus- ja ilmailuteollisuus PIA ry.\nDIANA ja NATO:n innovaatiotoiminta sekä European Defence Fund EDF\, Markus Ranne\, Business Finland\nInnovaatiorahasto ja TKI-ajankohtaiset\, Harri Länsipuro\, työ- ja elinkeinoministeriö\nYrityspuheenvuoro\, Reima Kuutsa\, Patria\n\n15.30                Yhteenveto ja seuraavat askeleet \n16.00                Tilaisuus päättyy \nTilaisuuden jälkeen on mahdollisuus keskustella puhujien kanssa tarkemmin eri aihealueista. \nLisätiedot ja ilmoittautuminen täällä: NATO yritysiltapäivä (lyyti.fi). \nTilaisuuden järjestävät yhteistyössä Business Turku\, Turun Kauppakamari\, Business Finland\, Puolustus- ja ilmailuteollisuus PIA ry ja Työ ja Elinkeinoministeriö ja INGO-hanke.
URL:https://wtc-turku.fi/event/naton-tuomat-mahdollisuudet-turun-seudun-yrityksille/?lang=en
LOCATION:Vierailukeskus Joki\, Lemminkäisenkatu 12B\, Turku\, Suomi
ATTACH;FMTTYPE=image/png:https://wtc-turku.fi/wp-content/uploads/2023/11/BT-event.png
END:VEVENT
END:VCALENDAR