BEGIN:VCALENDAR
VERSION:2.0
PRODID:-//WTC Turku - ECPv6.15.20//NONSGML v1.0//EN
CALSCALE:GREGORIAN
METHOD:PUBLISH
X-ORIGINAL-URL:https://wtc-turku.fi/?lang=en
X-WR-CALDESC:Events for WTC Turku
REFRESH-INTERVAL;VALUE=DURATION:PT1H
X-Robots-Tag:noindex
X-PUBLISHED-TTL:PT1H
BEGIN:VTIMEZONE
TZID:Europe/Helsinki
BEGIN:DAYLIGHT
TZOFFSETFROM:+0200
TZOFFSETTO:+0300
TZNAME:EEST
DTSTART:20230326T010000
END:DAYLIGHT
BEGIN:STANDARD
TZOFFSETFROM:+0300
TZOFFSETTO:+0200
TZNAME:EET
DTSTART:20231029T010000
END:STANDARD
BEGIN:DAYLIGHT
TZOFFSETFROM:+0200
TZOFFSETTO:+0300
TZNAME:EEST
DTSTART:20240331T010000
END:DAYLIGHT
BEGIN:STANDARD
TZOFFSETFROM:+0300
TZOFFSETTO:+0200
TZNAME:EET
DTSTART:20241027T010000
END:STANDARD
BEGIN:DAYLIGHT
TZOFFSETFROM:+0200
TZOFFSETTO:+0300
TZNAME:EEST
DTSTART:20250330T010000
END:DAYLIGHT
BEGIN:STANDARD
TZOFFSETFROM:+0300
TZOFFSETTO:+0200
TZNAME:EET
DTSTART:20251026T010000
END:STANDARD
END:VTIMEZONE
BEGIN:VEVENT
DTSTART;TZID=Europe/Helsinki:20240109T083000
DTEND;TZID=Europe/Helsinki:20240109T110000
DTSTAMP:20260419T185527
CREATED:20231219T104910Z
LAST-MODIFIED:20240103T080055Z
UID:5861-1704789000-1704798000@wtc-turku.fi
SUMMARY:NAVIGATING CHINA MARKET with TEAM FINLAND
DESCRIPTION:The event is organized in cooperation with the ELY Centre\, Business Turku and Team Finland. \nStart the new year by getting an updated outlook on the geopolitical and regulatory situation in China. Learn about the sentiments by Finnish companies operating in China. Hear about the growth opportunities in China and discuss Team Finland trade promotion focus for 2024. If IPR or sustainability issues are on your company’s concern\, you will get quick and easy instructions about what to take into account\, when considering starting trade with China. You have an opportunity to discuss and ask questions. \nAgenda: \n8:30 Registration and morning coffee \n9:00 Discussion and sharing \n\nWelcome and introductions\nChina market outlook from Finnish company perspective\nMarket opportunities and trade outlook in China 2024 for Health\n\n10:00 Networking and free discussion \n11:00 Closing of the event \nRegister here.
URL:https://wtc-turku.fi/event/navigating-china-market-with-team-finland/?lang=en
LOCATION:Vierailukeskus Joki\, Lemminkäisenkatu 12B\, Turku\, Suomi
ATTACH;FMTTYPE=image/jpeg:https://wtc-turku.fi/wp-content/uploads/2023/12/Navigating-China.jpg
END:VEVENT
BEGIN:VEVENT
DTSTART;TZID=Europe/Helsinki:20240109T150000
DTEND;TZID=Europe/Helsinki:20240109T163000
DTSTAMP:20260419T185527
CREATED:20231127T075011Z
LAST-MODIFIED:20231127T075011Z
UID:5801-1704812400-1704817800@wtc-turku.fi
SUMMARY:Akateeminen & WTC Turku Book Club
DESCRIPTION:The Akateeminen & WTC Turku book club is the newest way in the Turku region to network\, learn and get the extra advantage in growing your business\, professional expertise and knowledge. In the Akateeminen and WTC Turku book club we read classic business books\, new releases on economics and various publications on professional and personal development. We’ll meet live every few months at the Akateeminen store in Turku (Yliopistonkatu 27\, 20100 Turku) to share our opinions and insights on the most recent book.\n\nOn Tuesday\, January 9th\, we’ll meet at 15.00 to discuss Hidden Games by Moshe Hoffman and Erez Yoeli\, available to purchase in the Turku store as from week 49.\n\nDuring the book club meeting at the store\, Akateeminen offers the participants a 20% discount on books\, stationery and artists’ supplies.\n\nThe book club meetings are in English.\n\nThe club meetings are open for everyone and free of charge\, the books are not provided by the organizers. Sign up to the meeting here.
URL:https://wtc-turku.fi/event/akateeminen-wtc-turku-book-club-2/?lang=en
LOCATION:Akateeminen\, Yliopistonkatu 27\, Turku\, 20100\, Finland
ATTACH;FMTTYPE=image/jpeg:https://wtc-turku.fi/wp-content/uploads/2023/10/Akateeminen-x-WTC-BookClub.jpg
END:VEVENT
END:VCALENDAR