BEGIN:VCALENDAR
VERSION:2.0
PRODID:-//WTC Turku - ECPv6.15.20//NONSGML v1.0//EN
CALSCALE:GREGORIAN
METHOD:PUBLISH
X-WR-CALNAME:WTC Turku
X-ORIGINAL-URL:https://wtc-turku.fi/?lang=en
X-WR-CALDESC:Events for WTC Turku
REFRESH-INTERVAL;VALUE=DURATION:PT1H
X-Robots-Tag:noindex
X-PUBLISHED-TTL:PT1H
BEGIN:VTIMEZONE
TZID:Europe/Helsinki
BEGIN:DAYLIGHT
TZOFFSETFROM:+0200
TZOFFSETTO:+0300
TZNAME:EEST
DTSTART:20230326T010000
END:DAYLIGHT
BEGIN:STANDARD
TZOFFSETFROM:+0300
TZOFFSETTO:+0200
TZNAME:EET
DTSTART:20231029T010000
END:STANDARD
BEGIN:DAYLIGHT
TZOFFSETFROM:+0200
TZOFFSETTO:+0300
TZNAME:EEST
DTSTART:20240331T010000
END:DAYLIGHT
BEGIN:STANDARD
TZOFFSETFROM:+0300
TZOFFSETTO:+0200
TZNAME:EET
DTSTART:20241027T010000
END:STANDARD
BEGIN:DAYLIGHT
TZOFFSETFROM:+0200
TZOFFSETTO:+0300
TZNAME:EEST
DTSTART:20250330T010000
END:DAYLIGHT
BEGIN:STANDARD
TZOFFSETFROM:+0300
TZOFFSETTO:+0200
TZNAME:EET
DTSTART:20251026T010000
END:STANDARD
END:VTIMEZONE
BEGIN:VEVENT
DTSTART;TZID=Europe/Helsinki:20240207T140000
DTEND;TZID=Europe/Helsinki:20240207T153000
DTSTAMP:20260419T203813
CREATED:20230607T082932Z
LAST-MODIFIED:20240116T074847Z
UID:5866-1707314400-1707319800@wtc-turku.fi
SUMMARY:WTC & EEN afternoon: Denmark Business Landscape
DESCRIPTION:Join us for an afternoon focusing on Denmark and how to expand your business to this Nordic market. The event is meant for everyone who is interested in learning more about the Danish business landscape and is considering starting business operations in Denmark. \nProgram: \n14.00 Networking and coffee \n14.15 Presentations \n\nNetworks supporting your international growth – WTC Turku and Enterprise Europe Network\nEstablishing your business in Denmark\, Steen Damkier\, Country Manager Denmark\, Northstar Talent\nDenmark business landscape\, Mailiina Turanlahti\, Head of Scandinavia\, Business Finland\n\n15.15 Networking \nConnect with other local companies and discuss your specific case with one of the speakers and you can also meet with \n\nNorthstar Talent’s Mandana Heino\, Recruitment Consultant & Business Development Manager Nordics (you can also book 1:1 meeting with her for before or after the event in the registration form).\nBusiness Finland’s Heidi Uotinen\, Denmark\, Finland Trade Center\nRepresentatives from EEN and WTC Turku\n\n15.30 Event ends \nThe event is open for everyone and free of charge\, but requires advance registration here.
URL:https://wtc-turku.fi/event/wtc-een-iltapaiva-tanskan-markkinat/?lang=en
LOCATION:Vierailukeskus Joki\, Lemminkäisenkatu 12B\, Turku\, Suomi
ATTACH;FMTTYPE=image/png:https://wtc-turku.fi/wp-content/uploads/2023/06/WTCEEN-DENMARK-speakers.png
END:VEVENT
END:VCALENDAR