BEGIN:VCALENDAR
VERSION:2.0
PRODID:-//WTC Turku - ECPv6.15.20//NONSGML v1.0//EN
CALSCALE:GREGORIAN
METHOD:PUBLISH
X-WR-CALNAME:WTC Turku
X-ORIGINAL-URL:https://wtc-turku.fi/?lang=en
X-WR-CALDESC:Events for WTC Turku
REFRESH-INTERVAL;VALUE=DURATION:PT1H
X-Robots-Tag:noindex
X-PUBLISHED-TTL:PT1H
BEGIN:VTIMEZONE
TZID:Europe/Helsinki
BEGIN:DAYLIGHT
TZOFFSETFROM:+0200
TZOFFSETTO:+0300
TZNAME:EEST
DTSTART:20230326T010000
END:DAYLIGHT
BEGIN:STANDARD
TZOFFSETFROM:+0300
TZOFFSETTO:+0200
TZNAME:EET
DTSTART:20231029T010000
END:STANDARD
BEGIN:DAYLIGHT
TZOFFSETFROM:+0200
TZOFFSETTO:+0300
TZNAME:EEST
DTSTART:20240331T010000
END:DAYLIGHT
BEGIN:STANDARD
TZOFFSETFROM:+0300
TZOFFSETTO:+0200
TZNAME:EET
DTSTART:20241027T010000
END:STANDARD
BEGIN:DAYLIGHT
TZOFFSETFROM:+0200
TZOFFSETTO:+0300
TZNAME:EEST
DTSTART:20250330T010000
END:DAYLIGHT
BEGIN:STANDARD
TZOFFSETFROM:+0300
TZOFFSETTO:+0200
TZNAME:EET
DTSTART:20251026T010000
END:STANDARD
END:VTIMEZONE
BEGIN:VEVENT
DTSTART;TZID=Europe/Helsinki:20240425T150000
DTEND;TZID=Europe/Helsinki:20240425T163000
DTSTAMP:20260419T233907
CREATED:20240308T084622Z
LAST-MODIFIED:20240308T084622Z
UID:6120-1714057200-1714062600@wtc-turku.fi
SUMMARY:Akateeminen & WTC Turku Book Club
DESCRIPTION:The Akateeminen & WTC Turku book club is the newest way in the Turku region to network\, learn and get the required advantage in growing your business\, professional expertise and knowledge. In the Akateeminen and WTC Turku book club we read classic business books\, new releases on economics and various publications on professional and personal development. We’ll meet live every few months at the Akateeminen store in Turku (Yliopistonkatu 27\, 20100 Turku) to share our opinions and insights on the most recent book.\n\n\nOn Thusrday\, April 25th\, we’ll meet at 15.00 to discuss Quit by Annie Duke\, available to purchase in the Turku store.\n\n\nDuring the book club meeting at the store\, Akateeminen offers the participants a 20% discount on books\, stationery and artists’ supplies.\n\nThe book club meetings are in English\, the books are not provided but need to be purchased by the participants themselves. It is free of charge to join the meetings\, just register in advance by clicking here!\n\n 
URL:https://wtc-turku.fi/event/akateeminen-wtc-turku-book-club-3/?lang=en
LOCATION:Akateeminen\, Yliopistonkatu 27\, Turku\, 20100\, Finland
ATTACH;FMTTYPE=image/jpeg:https://wtc-turku.fi/wp-content/uploads/2024/03/Book-Club-April.jpg
END:VEVENT
END:VCALENDAR