BEGIN:VCALENDAR
VERSION:2.0
PRODID:-//WTC Turku - ECPv6.15.20//NONSGML v1.0//EN
CALSCALE:GREGORIAN
METHOD:PUBLISH
X-WR-CALNAME:WTC Turku
X-ORIGINAL-URL:https://wtc-turku.fi/?lang=en
X-WR-CALDESC:Events for WTC Turku
REFRESH-INTERVAL;VALUE=DURATION:PT1H
X-Robots-Tag:noindex
X-PUBLISHED-TTL:PT1H
BEGIN:VTIMEZONE
TZID:Europe/Helsinki
BEGIN:DAYLIGHT
TZOFFSETFROM:+0200
TZOFFSETTO:+0300
TZNAME:EEST
DTSTART:20220327T010000
END:DAYLIGHT
BEGIN:STANDARD
TZOFFSETFROM:+0300
TZOFFSETTO:+0200
TZNAME:EET
DTSTART:20221030T010000
END:STANDARD
BEGIN:DAYLIGHT
TZOFFSETFROM:+0200
TZOFFSETTO:+0300
TZNAME:EEST
DTSTART:20230326T010000
END:DAYLIGHT
BEGIN:STANDARD
TZOFFSETFROM:+0300
TZOFFSETTO:+0200
TZNAME:EET
DTSTART:20231029T010000
END:STANDARD
BEGIN:DAYLIGHT
TZOFFSETFROM:+0200
TZOFFSETTO:+0300
TZNAME:EEST
DTSTART:20240331T010000
END:DAYLIGHT
BEGIN:STANDARD
TZOFFSETFROM:+0300
TZOFFSETTO:+0200
TZNAME:EET
DTSTART:20241027T010000
END:STANDARD
END:VTIMEZONE
BEGIN:VEVENT
DTSTART;TZID=Europe/Helsinki:20230118T080000
DTEND;TZID=Europe/Helsinki:20230927T170000
DTSTAMP:20260419T201706
CREATED:20230118T072507Z
LAST-MODIFIED:20230804T055458Z
UID:5011-1674028800-1695834000@wtc-turku.fi
SUMMARY:The Book Club
DESCRIPTION:The Best Book Club premiered in January 2023. Following the 2022 Nordic Business Forum live stream event that was arranged in collaboration with WTC Turku\, Turku Science Park and Visitor and Innovation Centre Joki\,  a new way of learning\, networking\, and having fun in 2023 was introduced: The Best Book Club. \nThe Book Club meets every other month to discuss a book that is seleceted together with the club members. \nRegister now as a member\, it’s free to join\, but everyone will take care of arranging the reading materials themselves. The times and locations of the meetings will be communicated to the registered book club members separately for each meeting. \nRegister by clicking here.
URL:https://wtc-turku.fi/event/the-book-club/?lang=en
ATTACH;FMTTYPE=image/jpeg:https://wtc-turku.fi/wp-content/uploads/2023/01/Book-Club.jpg
END:VEVENT
BEGIN:VEVENT
DTSTART;VALUE=DATE:20230927
DTEND;VALUE=DATE:20230929
DTSTAMP:20260419T201706
CREATED:20230816T080906Z
LAST-MODIFIED:20230919T060844Z
UID:5511-1695772800-1695945599@wtc-turku.fi
SUMMARY:NORDIC BUSINESS FORUM 2023 - Independently Organized Live Stream Event
DESCRIPTION:Join us for the best remote days of the year! \nFollowing the success of our 2022 live stream event\, WTC Turku is again this year partnering with Visitor and Innovation Centre Joki and Turku Science Park to bring you the opportunity to work remotely from the prestigious and modern working spaces of Joki in between of listening to amazing talks and networking with other participants! \nWhy should you attend? \n\nBusiness & Personal Development – The NBF live stream features top business experts and speakers who share their success stories and expertise in business and leadership. You will gain ideas and inspiration for your business and personal development. Joining our event will help you improve your skills\, grow your business\, and provide guidelines and tips on where to focus on in the future.\nTeam Building & Inspiration – Attending NBF live stream with your team can help you create a better future for your company. It can accelerate your team’s growth and development\, expose them to new perspectives\, inspiration\, and ideas\, and ultimately lead to the growth and development of your company.The event also offers participants a chance to take a break from their regular duties\, focus on personal development\, network with peers\, and enjoy remote work in an inspiring environment.\nNetworking – We bring together a great mix of professionals in the Turku region\, including decision-makers and business owners\, creating a community of individuals who aspire to learn from one another and build strong networks.\n\nAgenda \nWednesday 27.9. \n11:45 Welcome\n12:00 Sessions start (the organizers recommend Patrick Lencioni – Teamwork Simplified)\n13:45 Remote work / networking\n14:40 Sessions continue (the organizers recommend Rebecca Henderson – Reimagining Capitalism in a World on Fire at 15:25)\n16:15 Remote work / networking\n17:10 Sessions continue ( the organizers recommend Mo Gawdat – AI Today\, Tomorrow and How You Can Save Our World at 17:40)\n19:00 End of program day one\n\nThursday 28.9. \n9:45  Sessions start (the organizers recommend Tim Ferriss – Productivity & Innovation at 10:25)\n11:00 Lunch at Bistro Elli – please note that the attendees pay for their own food. The restaurant is located on the ground floor of Sokos Hotel Kupittaa at Joukahaisenkatu 6\, 20520 Turku.\n12:30 Sessions continue (the organizers recommend Amy Webb – The Futures of Artificial Intelligence at 12:30)\n13:50 Remore work / networking\n14:45 Sessions continue (the organizers recommend Malala Yousafzai – Creating Change at 15.15)\n16:00 End of program\nDon’t forget that you won’t be swamped with two days’ worth of work after this event\, since Joki offers you the opportunity to utilize the modern and beautiful working spaces during these days. You’ll be able to work remotely in between all the networking and listening to world-class speakers and inspiring talks. Take the opportunity to set up a lunch date with other participants\, catch up with the organizers during the coffee break or have a meeting before or after the program! \nThere’s limited number of seats available\, so register now!
URL:https://wtc-turku.fi/event/nordic-business-forum-2023-independently-organized-live-stream-event/?lang=en
LOCATION:Vierailukeskus Joki\, Lemminkäisenkatu 12B\, Turku\, Suomi
ATTACH;FMTTYPE=image/jpeg:https://wtc-turku.fi/wp-content/uploads/2023/08/NBF2023.jpg
END:VEVENT
END:VCALENDAR