BEGIN:VCALENDAR
VERSION:2.0
PRODID:-//WTC Turku - ECPv6.15.20//NONSGML v1.0//EN
CALSCALE:GREGORIAN
METHOD:PUBLISH
X-WR-CALNAME:WTC Turku
X-ORIGINAL-URL:https://wtc-turku.fi/?lang=en
X-WR-CALDESC:Events for WTC Turku
REFRESH-INTERVAL;VALUE=DURATION:PT1H
X-Robots-Tag:noindex
X-PUBLISHED-TTL:PT1H
BEGIN:VTIMEZONE
TZID:Europe/Helsinki
BEGIN:DAYLIGHT
TZOFFSETFROM:+0200
TZOFFSETTO:+0300
TZNAME:EEST
DTSTART:20230326T010000
END:DAYLIGHT
BEGIN:STANDARD
TZOFFSETFROM:+0300
TZOFFSETTO:+0200
TZNAME:EET
DTSTART:20231029T010000
END:STANDARD
BEGIN:DAYLIGHT
TZOFFSETFROM:+0200
TZOFFSETTO:+0300
TZNAME:EEST
DTSTART:20240331T010000
END:DAYLIGHT
BEGIN:STANDARD
TZOFFSETFROM:+0300
TZOFFSETTO:+0200
TZNAME:EET
DTSTART:20241027T010000
END:STANDARD
BEGIN:DAYLIGHT
TZOFFSETFROM:+0200
TZOFFSETTO:+0300
TZNAME:EEST
DTSTART:20250330T010000
END:DAYLIGHT
BEGIN:STANDARD
TZOFFSETFROM:+0300
TZOFFSETTO:+0200
TZNAME:EET
DTSTART:20251026T010000
END:STANDARD
END:VTIMEZONE
BEGIN:VEVENT
DTSTART;TZID=Europe/Helsinki:20240307T150000
DTEND;TZID=Europe/Helsinki:20240307T163000
DTSTAMP:20260419T203952
CREATED:20240112T080253Z
LAST-MODIFIED:20240112T080253Z
UID:5908-1709823600-1709829000@wtc-turku.fi
SUMMARY:Akateeminen & WTC Turku Book Club
DESCRIPTION:The Akateeminen & WTC Turku book club is the newest way in the Turku region to network\, learn and get the extra advantage in growing your business\, professional expertise and knowledge. In the Akateeminen and WTC Turku book club we read classic business books\, new releases on economics and various publications on professional and personal development. We’ll meet live every few months at the Akateeminen store in Turku (Yliopistonkatu 27\, 20100 Turku) to share our opinions and insights on the most recent book.\n\nOn Thusrday\, Match 7th\, we’ll meet at 15.00 to discuss Discipline is destiny by Ryan Holiday\, available to purchase in the Turku store in both paperback and hardcover.\n\nDuring the book club meeting at the store\, Akateeminen offers the participants a 20% discount on books\, stationery and artists’ supplies.\n\nThe book club meetings are in English.\n\nThe club meetings are open for everyone and free of charge\, the books are not provided by the organizers. Sign up to the meeting here.
URL:https://wtc-turku.fi/event/akateeminen-wtc-turku-book-club-4/?lang=en
LOCATION:Akateeminen\, Yliopistonkatu 27\, Turku\, 20100\, Finland
ATTACH;FMTTYPE=image/jpeg:https://wtc-turku.fi/wp-content/uploads/2024/01/Book-Club-March.jpg
END:VEVENT
BEGIN:VEVENT
DTSTART;TZID=Europe/Helsinki:20240313T140000
DTEND;TZID=Europe/Helsinki:20240313T153000
DTSTAMP:20260419T203952
CREATED:20240115T140133Z
LAST-MODIFIED:20240208T132836Z
UID:6035-1710338400-1710343800@wtc-turku.fi
SUMMARY:WTC & EEN afternoon: Norway market
DESCRIPTION:Review of the Norway business landscape takes place on Wednesday\, 13.3.2024 at 14.00-15.30 at Visitor Centre Joki. The focus of the afternoon is Norway\, and how to expand your business to this Nordic market. This event is meant for everyone who is interested in learning more about the Norwegian market and are looking to start or grow their business in Norway. \nProgram: \n14.00 Coffee and networking \n14.10 Welcome words from WTC Turku and Enterprise Europe Network \n14.15 Presentations \n\nNorway’s history\, economical situation\, and business landscape\, Ina Nygård Mossin and Kim Kronlund\, Embassy of the Kingdom of Norway\nEntering the Norway market\, Arto Ahokas\, Export Maker\nOur business in Norwat\, Markus Mäkelä\, Evondos Oy\n\n15.10 Networking \n15.30 The event ends \nThe event is free of charge and open for everyone but requires advance registration here.
URL:https://wtc-turku.fi/event/wtc-een-iltapaiva-norjan-markkinat/?lang=en
LOCATION:Vierailukeskus Joki\, Lemminkäisenkatu 12B\, Turku\, Suomi
ATTACH;FMTTYPE=image/jpeg:https://wtc-turku.fi/wp-content/uploads/2024/01/WTC-EEN-Norway.jpg
END:VEVENT
BEGIN:VEVENT
DTSTART;TZID=Europe/Helsinki:20240319T110000
DTEND;TZID=Europe/Helsinki:20240319T130000
DTSTAMP:20260419T203952
CREATED:20240119T100639Z
LAST-MODIFIED:20240229T121451Z
UID:5972-1710846000-1710853200@wtc-turku.fi
SUMMARY:WTC Turku Club Lunch
DESCRIPTION:This event is either in Finnish or in English depending on the attendees’ preference. \nWTC Turku Club members meet over lunch. \nPROGRAM: \n\nINTRODUCTIONS\nOPEN FLOOR AND COMPANY CASE STUDIES\nPLANNING CLUB ACTIVITIES 2024\n\nRegister for the lunch and/or club here.
URL:https://wtc-turku.fi/event/wtc-turku-klubilounas-3/?lang=en
LOCATION:Tiedepuiston alue Kupittaa
ATTACH;FMTTYPE=image/png:https://wtc-turku.fi/wp-content/uploads/2024/01/WTC-Turku-Club-March.png
END:VEVENT
END:VCALENDAR