BEGIN:VCALENDAR
VERSION:2.0
PRODID:-//WTC Turku - ECPv6.15.20//NONSGML v1.0//EN
CALSCALE:GREGORIAN
METHOD:PUBLISH
X-ORIGINAL-URL:https://wtc-turku.fi/?lang=en
X-WR-CALDESC:Events for WTC Turku
REFRESH-INTERVAL;VALUE=DURATION:PT1H
X-Robots-Tag:noindex
X-PUBLISHED-TTL:PT1H
BEGIN:VTIMEZONE
TZID:Europe/Helsinki
BEGIN:DAYLIGHT
TZOFFSETFROM:+0200
TZOFFSETTO:+0300
TZNAME:EEST
DTSTART:20230326T010000
END:DAYLIGHT
BEGIN:STANDARD
TZOFFSETFROM:+0300
TZOFFSETTO:+0200
TZNAME:EET
DTSTART:20231029T010000
END:STANDARD
BEGIN:DAYLIGHT
TZOFFSETFROM:+0200
TZOFFSETTO:+0300
TZNAME:EEST
DTSTART:20240331T010000
END:DAYLIGHT
BEGIN:STANDARD
TZOFFSETFROM:+0300
TZOFFSETTO:+0200
TZNAME:EET
DTSTART:20241027T010000
END:STANDARD
BEGIN:DAYLIGHT
TZOFFSETFROM:+0200
TZOFFSETTO:+0300
TZNAME:EEST
DTSTART:20250330T010000
END:DAYLIGHT
BEGIN:STANDARD
TZOFFSETFROM:+0300
TZOFFSETTO:+0200
TZNAME:EET
DTSTART:20251026T010000
END:STANDARD
END:VTIMEZONE
BEGIN:VEVENT
DTSTART;TZID=Europe/Helsinki:20240410T133000
DTEND;TZID=Europe/Helsinki:20240410T160000
DTSTAMP:20260418T232855
CREATED:20240207T084157Z
LAST-MODIFIED:20240325T111139Z
UID:6040-1712755800-1712764800@wtc-turku.fi
SUMMARY:Viennin ja ulkomaankaupan rahoitus
DESCRIPTION:This event is in Finnish.  \nTässä iltapäivän tilaisuudessa keskitymme ulkomaankaupan rahoitukseen\, maksuliikenteeseen\, saatavien varmistamiseen ja takauksiin. Tapahtuma on tarkoitettu kaikille\, joille rahoitusvaihtoehdot\, kansainvälinen maksuliikenne ja muu kansainväliseen liiketoimintaan liittyvä rahaliikenne on ajankohtaista nyt tai tulevaisuudessa. Tapahtumassa pääset keskustelemaan suoraan oikeiden asiantuntijoiden kanssa\, ja kuulemaan ajankohtaiset uutiset koskien ulkomaankaupan ja viennin rahoitusta. \nOhjelma \n13.30 Kahvia ja kuulumisten vaihtoa \n13.40 Tervetuloa toivottaa WTC Turku ja Enterprise Europe Network \n13.55 Pankin näkökulma kansainväliseen maksuliikenteeseen ja rahoitukseen – Aija Sundgren\, Danske Bank \n14.15 ELY-keskuksen rahoitukset – Leevi Törmäkangas\, ELY-keskus \n14.35 Business Finland tuki rahoituksen haasteissa – Jukka Lohivuo\, Business Finland \n14.55 Finnveran palvelut – Sakari Juntti\, Finnvera \n14.15 Yrityscase – Marco Halén\, Turun Sarjatuote Oy / Nortool Oy \n15.30 Kysymyksiä ja keskustelua \n16.00 Tilaisuus päättyy \nTilaisuus on maksuton ja avoin kaikille aiheesta kiinnostuneille\, mutta vaatii ennakkoilmoittautumisen tästä linkistä.
URL:https://wtc-turku.fi/event/ulkomaankaupan-rahoitus/?lang=en
LOCATION:Vierailukeskus Joki\, Lemminkäisenkatu 12B\, Turku\, Suomi
ATTACH;FMTTYPE=image/png:https://wtc-turku.fi/wp-content/uploads/2024/02/WTC-EEN-Rahoitus-BW.png
END:VEVENT
BEGIN:VEVENT
DTSTART;TZID=Europe/Helsinki:20240416T110000
DTEND;TZID=Europe/Helsinki:20240416T130000
DTSTAMP:20260418T232855
CREATED:20240325T113109Z
LAST-MODIFIED:20240325T113447Z
UID:6172-1713265200-1713272400@wtc-turku.fi
SUMMARY:WTC Turku Club meeting
DESCRIPTION:April club meeting over lunch. \nPROGRAM: \n\nINTRODUCTIONS\nOPEN FLOOR AND COMPANY CASE STUDIES\nINTERNATIONAL BUSINESS CLUB VISITS AND CO-OPERATION\n\nLUNCH IS AVAILABLE AT THE EVENT. \nThe club meeting is meant only for the members of the WTC Turku Club. Register for the event here. \nAre you not yet a member? Register as a club member here. The 2024 annual membership fee is 150e.
URL:https://wtc-turku.fi/event/wtc-turku-klubitapaaminen/?lang=en
LOCATION:Tiedepuiston alue Kupittaa
ATTACH;FMTTYPE=image/png:https://wtc-turku.fi/wp-content/uploads/2024/03/WTC-Turku-Club-APRIL.png
END:VEVENT
BEGIN:VEVENT
DTSTART;TZID=Europe/Helsinki:20240425T150000
DTEND;TZID=Europe/Helsinki:20240425T163000
DTSTAMP:20260418T232855
CREATED:20240308T084622Z
LAST-MODIFIED:20240308T084622Z
UID:6120-1714057200-1714062600@wtc-turku.fi
SUMMARY:Akateeminen & WTC Turku Book Club
DESCRIPTION:The Akateeminen & WTC Turku book club is the newest way in the Turku region to network\, learn and get the required advantage in growing your business\, professional expertise and knowledge. In the Akateeminen and WTC Turku book club we read classic business books\, new releases on economics and various publications on professional and personal development. We’ll meet live every few months at the Akateeminen store in Turku (Yliopistonkatu 27\, 20100 Turku) to share our opinions and insights on the most recent book.\n\n\nOn Thusrday\, April 25th\, we’ll meet at 15.00 to discuss Quit by Annie Duke\, available to purchase in the Turku store.\n\n\nDuring the book club meeting at the store\, Akateeminen offers the participants a 20% discount on books\, stationery and artists’ supplies.\n\nThe book club meetings are in English\, the books are not provided but need to be purchased by the participants themselves. It is free of charge to join the meetings\, just register in advance by clicking here!\n\n 
URL:https://wtc-turku.fi/event/akateeminen-wtc-turku-book-club-3/?lang=en
LOCATION:Akateeminen\, Yliopistonkatu 27\, Turku\, 20100\, Finland
ATTACH;FMTTYPE=image/jpeg:https://wtc-turku.fi/wp-content/uploads/2024/03/Book-Club-April.jpg
END:VEVENT
END:VCALENDAR