BEGIN:VCALENDAR
VERSION:2.0
PRODID:-//WTC Turku - ECPv6.15.20//NONSGML v1.0//EN
CALSCALE:GREGORIAN
METHOD:PUBLISH
X-ORIGINAL-URL:https://wtc-turku.fi/?lang=en
X-WR-CALDESC:Events for WTC Turku
REFRESH-INTERVAL;VALUE=DURATION:PT1H
X-Robots-Tag:noindex
X-PUBLISHED-TTL:PT1H
BEGIN:VTIMEZONE
TZID:Europe/Helsinki
BEGIN:DAYLIGHT
TZOFFSETFROM:+0200
TZOFFSETTO:+0300
TZNAME:EEST
DTSTART:20230326T010000
END:DAYLIGHT
BEGIN:STANDARD
TZOFFSETFROM:+0300
TZOFFSETTO:+0200
TZNAME:EET
DTSTART:20231029T010000
END:STANDARD
BEGIN:DAYLIGHT
TZOFFSETFROM:+0200
TZOFFSETTO:+0300
TZNAME:EEST
DTSTART:20240331T010000
END:DAYLIGHT
BEGIN:STANDARD
TZOFFSETFROM:+0300
TZOFFSETTO:+0200
TZNAME:EET
DTSTART:20241027T010000
END:STANDARD
BEGIN:DAYLIGHT
TZOFFSETFROM:+0200
TZOFFSETTO:+0300
TZNAME:EEST
DTSTART:20250330T010000
END:DAYLIGHT
BEGIN:STANDARD
TZOFFSETFROM:+0300
TZOFFSETTO:+0200
TZNAME:EET
DTSTART:20251026T010000
END:STANDARD
END:VTIMEZONE
BEGIN:VEVENT
DTSTART;TZID=Europe/Helsinki:20240522T140000
DTEND;TZID=Europe/Helsinki:20240522T153000
DTSTAMP:20260419T234619
CREATED:20240325T105947Z
LAST-MODIFIED:20240425T095555Z
UID:6167-1716386400-1716391800@wtc-turku.fi
SUMMARY:WTC & EEN afternoon: the Netherlands market
DESCRIPTION:This event is in Finnish. \nWe’ll focus on the Netherlands market during the in-person afternoon event. The event is meant for everyone who is planning to start or grow their business in the Netherlands. \nProgram: \n14.00 Welcome by WTC & EEN \n14.10 Opening words – Honorary consul for the Netherlands\, CEO of Turku Chamber of Commerce Kaisa Leiwo  \n14.15 Presentations \n\nNetherlands market – Miina Ojanperä\, Embassy of the Netherlands in Finland\nStarting and doing business in the Netherlands – Laura Dib\, Trademill Finland\nCompany case – Leena Lundell\, Aulis Lundell Oy\n\n14.10 Discussion and networking \n15.30 The event ends \nThe event is free of charge and open for everyone but requires advance registration here. \n 
URL:https://wtc-turku.fi/event/wtc-een-iltapaiva-alankomaiden-markkinat/?lang=en
LOCATION:Vierailukeskus Joki\, Lemminkäisenkatu 12B\, Turku\, Suomi
ATTACH;FMTTYPE=image/jpeg:https://wtc-turku.fi/wp-content/uploads/2024/03/WTC-EEN-Alankomaat-1.jpg
END:VEVENT
BEGIN:VEVENT
DTSTART;TZID=Europe/Helsinki:20240528T110000
DTEND;TZID=Europe/Helsinki:20240528T130000
DTSTAMP:20260419T234619
CREATED:20240326T122210Z
LAST-MODIFIED:20240326T122506Z
UID:6196-1716894000-1716901200@wtc-turku.fi
SUMMARY:WTC Turku Club meeting
DESCRIPTION:Club meeting in May\, only for Club members – register here. \nToukokuun klubitapaaminen\, vain klubin jäsenille – ilmoittaudu mukaan tästä.
URL:https://wtc-turku.fi/event/wtc-turku-klubitapaaminen-2/?lang=en
LOCATION:Tiedepuiston alue Kupittaa
ATTACH;FMTTYPE=image/png:https://wtc-turku.fi/wp-content/uploads/2024/03/WTC-Turku-Klubi-May.png
END:VEVENT
END:VCALENDAR