BEGIN:VCALENDAR
VERSION:2.0
PRODID:-//WTC Turku - ECPv6.15.20//NONSGML v1.0//EN
CALSCALE:GREGORIAN
METHOD:PUBLISH
X-ORIGINAL-URL:https://wtc-turku.fi
X-WR-CALDESC:Tapahtumat WTC Turku
REFRESH-INTERVAL;VALUE=DURATION:PT1H
X-Robots-Tag:noindex
X-PUBLISHED-TTL:PT1H
BEGIN:VTIMEZONE
TZID:Europe/Helsinki
BEGIN:DAYLIGHT
TZOFFSETFROM:+0200
TZOFFSETTO:+0300
TZNAME:EEST
DTSTART:20210328T010000
END:DAYLIGHT
BEGIN:STANDARD
TZOFFSETFROM:+0300
TZOFFSETTO:+0200
TZNAME:EET
DTSTART:20211031T010000
END:STANDARD
BEGIN:DAYLIGHT
TZOFFSETFROM:+0200
TZOFFSETTO:+0300
TZNAME:EEST
DTSTART:20220327T010000
END:DAYLIGHT
BEGIN:STANDARD
TZOFFSETFROM:+0300
TZOFFSETTO:+0200
TZNAME:EET
DTSTART:20221030T010000
END:STANDARD
BEGIN:DAYLIGHT
TZOFFSETFROM:+0200
TZOFFSETTO:+0300
TZNAME:EEST
DTSTART:20230326T010000
END:DAYLIGHT
BEGIN:STANDARD
TZOFFSETFROM:+0300
TZOFFSETTO:+0200
TZNAME:EET
DTSTART:20231029T010000
END:STANDARD
END:VTIMEZONE
BEGIN:VEVENT
DTSTART;TZID=Europe/Helsinki:20220818T100000
DTEND;TZID=Europe/Helsinki:20220818T104500
DTSTAMP:20260423T013054
CREATED:20220622T112956Z
LAST-MODIFIED:20220622T112956Z
UID:4456-1660816800-1660819500@wtc-turku.fi
SUMMARY:PK-yrittäjä: tule mukaan ratkaisemaan aitoja haasteita ja kehittämään liiketoimintaasi!
DESCRIPTION:Urban Tech -hanke etsii ratkaisuja isojen yritysten ja organisaatioiden haasteisiin\, jotka liittyvät terveydenhuollon\, vihreän teknologian tai älykkäiden kaupunkiratkaisujen teemoihin. Tavoitteena on synnyttää uusia innovatiivisia tuote- ja palveluinnovaatioita\, joista lupaavimmille tarjolla on myös pilotointirahoitusta. \nUrban Techissä pk-yritykset pääsevät kehittämään ratkaisuja haasteisiin\, joita on kerätty yrityksistä sekä julkisista organisaatioista ympäri Euroopan alkuvuoden 2022 ajan. Kiinnostuksensa voi ilmaista jättämällä ratkaisuideoita eri haasteisiin 14.9.2022 asti. Hanke on tarkoitettu eurooppalaisille pk-yrityksille\, ja idean toteuttamiseen on mahdollista saada tueksi mentorointia sekä pilotointitukea jopa yli 50 000 euroa. \nHankkeen projektipäällikkö Sofia Pihlava Turku Business Regionilta kannustaa yrityksiä hakemaan mukaan matalalla kynnyksellä. \n”Urban Techissä pääsette kehittämään ratkaisuja\, joille on aito ja ajankohtainen tarve! Tämä on myös upea mahdollisuus pyrkiä kansainvälistymään\, sillä haasteita on Suomen ulkopuoleltakin. Me Turku Business Regionilla tuemme mukaan päässeitä yrityksiä etenemään idean kanssa. Hakeminen on tehty todella helpoksi\, joten mukaan vain”\, Pihlava innostaa. \nTutustu haasteisiin & hae mukaan! Haasteet julkaistaan 22.6.2022. \nKysyttävää\, haluatko kuulla lisää? \nLisätietoja ohjelmasta sekä hakemisesta saat Teamsin välityksellä järjestettävässä infotilaisuudessa to 18.8 klo 10-10:45. Ilmoittaudu mukaan tilaisuuteen!
URL:https://wtc-turku.fi/event/pk-yrittaja-tule-mukaan-ratkaisemaan-aitoja-haasteita-ja-kehittamaan-liiketoimintaasi/
LOCATION:Online
ATTACH;FMTTYPE=image/png:https://wtc-turku.fi/wp-content/uploads/2022/06/Urban-Tech.png
END:VEVENT
END:VCALENDAR