BEGIN:VCALENDAR
VERSION:2.0
PRODID:-//WTC Turku - ECPv6.15.20//NONSGML v1.0//EN
CALSCALE:GREGORIAN
METHOD:PUBLISH
X-WR-CALNAME:WTC Turku
X-ORIGINAL-URL:https://wtc-turku.fi
X-WR-CALDESC:Tapahtumat WTC Turku
REFRESH-INTERVAL;VALUE=DURATION:PT1H
X-Robots-Tag:noindex
X-PUBLISHED-TTL:PT1H
BEGIN:VTIMEZONE
TZID:Europe/Helsinki
BEGIN:DAYLIGHT
TZOFFSETFROM:+0200
TZOFFSETTO:+0300
TZNAME:EEST
DTSTART:20210328T010000
END:DAYLIGHT
BEGIN:STANDARD
TZOFFSETFROM:+0300
TZOFFSETTO:+0200
TZNAME:EET
DTSTART:20211031T010000
END:STANDARD
BEGIN:DAYLIGHT
TZOFFSETFROM:+0200
TZOFFSETTO:+0300
TZNAME:EEST
DTSTART:20220327T010000
END:DAYLIGHT
BEGIN:STANDARD
TZOFFSETFROM:+0300
TZOFFSETTO:+0200
TZNAME:EET
DTSTART:20221030T010000
END:STANDARD
BEGIN:DAYLIGHT
TZOFFSETFROM:+0200
TZOFFSETTO:+0300
TZNAME:EEST
DTSTART:20230326T010000
END:DAYLIGHT
BEGIN:STANDARD
TZOFFSETFROM:+0300
TZOFFSETTO:+0200
TZNAME:EET
DTSTART:20231029T010000
END:STANDARD
END:VTIMEZONE
BEGIN:VEVENT
DTSTART;TZID=Europe/Helsinki:20220831T083000
DTEND;TZID=Europe/Helsinki:20220831T100000
DTSTAMP:20260422T234524
CREATED:20220707T115109Z
LAST-MODIFIED:20220802T080803Z
UID:4531-1661934600-1661940000@wtc-turku.fi
SUMMARY:WTC – EEN Aamukahvit: Saksa
DESCRIPTION:World Trade Center Turku ja Enterprise Europe Network tarjoavat syksyllä maksuttomia aamukahvitilaisuuksia\, joissa annetaan kattava katsaus eri maiden liiketoimintaympäristöihin. Tapahtumat on tarkoitettu kaikille\, jotka suunnittelevat liiketoiminnan aloittamista tai kasvattamista ko. markkinoilla. Lyhyessä ja ytimekkäässä tilaisuudessa on mahdollisuus verkostoitua ja tarjolla on myös pientä aamiaista. \nSyksyn aamukahvitilaisuudet aloitetaan Saksan markkinakatsauksella 31.8.2022. Tapahtuma on tarkoitettu kaikille\, jotka suunnittelevat liiketoiminnan aloittamista tai kasvattamista Saksassa.  \nPuhujina: \nLotta Westerlund\, Saksalais-Suomalainen Kauppakamari \nTimo Calonius\, Federal Association for Economic Development and Foreign Trade (BWA) \nTomi Virtanen\, Doerz \nTilaisuus on maksuton\, mutta vaati ilmoittautumisen: https://www.lyyti.in/WTC__EEN_Aamukahvit_Saksa_1645
URL:https://wtc-turku.fi/event/wtc-een-aamukahvit-saksa/
LOCATION:Vierailukeskus Joki\, Lemminkäisenkatu 12B\, Turku\, Suomi
ATTACH;FMTTYPE=image/jpeg:https://wtc-turku.fi/wp-content/uploads/2022/07/WTC-EEN-Aamukahvit.jpg
END:VEVENT
END:VCALENDAR