BEGIN:VCALENDAR
VERSION:2.0
PRODID:-//WTC Turku - ECPv6.15.20//NONSGML v1.0//EN
CALSCALE:GREGORIAN
METHOD:PUBLISH
X-ORIGINAL-URL:https://wtc-turku.fi
X-WR-CALDESC:Tapahtumat WTC Turku
REFRESH-INTERVAL;VALUE=DURATION:PT1H
X-Robots-Tag:noindex
X-PUBLISHED-TTL:PT1H
BEGIN:VTIMEZONE
TZID:Europe/Helsinki
BEGIN:DAYLIGHT
TZOFFSETFROM:+0200
TZOFFSETTO:+0300
TZNAME:EEST
DTSTART:20210328T010000
END:DAYLIGHT
BEGIN:STANDARD
TZOFFSETFROM:+0300
TZOFFSETTO:+0200
TZNAME:EET
DTSTART:20211031T010000
END:STANDARD
BEGIN:DAYLIGHT
TZOFFSETFROM:+0200
TZOFFSETTO:+0300
TZNAME:EEST
DTSTART:20220327T010000
END:DAYLIGHT
BEGIN:STANDARD
TZOFFSETFROM:+0300
TZOFFSETTO:+0200
TZNAME:EET
DTSTART:20221030T010000
END:STANDARD
BEGIN:DAYLIGHT
TZOFFSETFROM:+0200
TZOFFSETTO:+0300
TZNAME:EEST
DTSTART:20230326T010000
END:DAYLIGHT
BEGIN:STANDARD
TZOFFSETFROM:+0300
TZOFFSETTO:+0200
TZNAME:EET
DTSTART:20231029T010000
END:STANDARD
END:VTIMEZONE
BEGIN:VEVENT
DTSTART;TZID=Europe/Helsinki:20220913T090000
DTEND;TZID=Europe/Helsinki:20220913T100000
DTSTAMP:20260422T234659
CREATED:20220908T071507Z
LAST-MODIFIED:20220908T071507Z
UID:4830-1663059600-1663063200@wtc-turku.fi
SUMMARY:Kansainvälinen rekrytointi avuksi työvoiman saatavuuteen
DESCRIPTION:ti 13.9. klo 9- 10\nKansainvälinen rekrytointi avuksi työvoiman saatavuuteen\nKuinka päästä alkuun kansainvälisissä rekrytoinneissa ja mistä tarvittava tieto löytyy? Lotta Kujanpää / Turku Business Region\nEOJD-rekrytointitapahtuma\, Tuula Matikainen / V-S TE-toimisto\nTyöpaikkasuomi ja -ruotsi\, Vilppu Palmberg / V-S ELY-keskus \nIlmoittaudu mukaan tästä.
URL:https://wtc-turku.fi/event/kansainvalinen-rekrytointi-avuksi-tyovoiman-saatavuuteen-2/
LOCATION:Online
END:VEVENT
END:VCALENDAR