BEGIN:VCALENDAR
VERSION:2.0
PRODID:-//WTC Turku - ECPv6.15.20//NONSGML v1.0//EN
CALSCALE:GREGORIAN
METHOD:PUBLISH
X-ORIGINAL-URL:https://wtc-turku.fi
X-WR-CALDESC:Tapahtumat WTC Turku
REFRESH-INTERVAL;VALUE=DURATION:PT1H
X-Robots-Tag:noindex
X-PUBLISHED-TTL:PT1H
BEGIN:VTIMEZONE
TZID:Europe/Helsinki
BEGIN:DAYLIGHT
TZOFFSETFROM:+0200
TZOFFSETTO:+0300
TZNAME:EEST
DTSTART:20210328T010000
END:DAYLIGHT
BEGIN:STANDARD
TZOFFSETFROM:+0300
TZOFFSETTO:+0200
TZNAME:EET
DTSTART:20211031T010000
END:STANDARD
BEGIN:DAYLIGHT
TZOFFSETFROM:+0200
TZOFFSETTO:+0300
TZNAME:EEST
DTSTART:20220327T010000
END:DAYLIGHT
BEGIN:STANDARD
TZOFFSETFROM:+0300
TZOFFSETTO:+0200
TZNAME:EET
DTSTART:20221030T010000
END:STANDARD
BEGIN:DAYLIGHT
TZOFFSETFROM:+0200
TZOFFSETTO:+0300
TZNAME:EEST
DTSTART:20230326T010000
END:DAYLIGHT
BEGIN:STANDARD
TZOFFSETFROM:+0300
TZOFFSETTO:+0200
TZNAME:EET
DTSTART:20231029T010000
END:STANDARD
END:VTIMEZONE
BEGIN:VEVENT
DTSTART;TZID=Europe/Helsinki:20220923T093000
DTEND;TZID=Europe/Helsinki:20220923T143000
DTSTAMP:20260422T234700
CREATED:20220831T112100Z
LAST-MODIFIED:20220831T112100Z
UID:4781-1663925400-1663943400@wtc-turku.fi
SUMMARY:West Coast Food Export
DESCRIPTION:West Coast Food Export -sparrausohjelman seuraava tapaaminen järjestetään Turussa 23.9.2022 klo 9.30 – 14.30. Teemalla ”Rahoitusta kasvuun ja kansainvälistymiseen”. \nMillaisia eri rahoitusmahdollisuuksia on tarjolla yritysten kasvun ja kansainvälistymisen rahoittamiseen ja miten tutkimustieto voi auttaa elintarvikeyritysten menestymistä? Tule sparraustilaisuuteemme Turkuun\, niin kuulet vastauksen muun muassa näihin kysymyksiin. \nTILAISUUDEN OHJELMA: \n9:30  Rekisteröityminen ja aamukahvit \n10:00  Tilaisuuden avaus ja ohjelman esittely\nCarita Vastinesluoma\, Team Finland -koordinaattori\, Satakunnan ELY-keskus \n10:05  Pääomasijoittajan rooli elintarvikeyrityksen kansainvälisessä kasvussa\nKeynote speaker: Pekka Siivonen-Uotila\, partner\, Nordic Food Tech VC \n10:30  Dagsmark Petfood: kasvutarina lemmikkialalta\nLaura Strömberg\, toimitusjohtaja\, Dagsmark Petfood Oy \n10:55  ELY-keskuksen yritysten kehittämispalvelut: ketterä ja kustannustehokas väline yrityksen kehittämiseen ja kansainvälistymisen suunnitteluun\nLeevi Törmäkangas\, Team Finland -koordinaattori\, Varsinais-Suomen ELY-keskus ja Kåre Björkstrand\, senior advisor\, Viexpo \n11:20  Infoa vierailusta Flavoriaan ja Aistikattilaan\nMari Norrdal\, kehityspäällikkö\, Turun yliopisto / COO & Co-Founder Aistila Oy \nSiirtyminen Flavoriaan (Turun yliopisto\, Kiinamyllynkatu 10\, 20520 Turku) \n11:45 – 12:45 Lounas (omakustanteinen) Flavorian tutkimusravintolassa\nHalutessasi pääset näkemään lounasvalintasi ravintosisällön älykkäällä ruokalinjastolla ja tutustumaan Aistikattilan moniaistiseen tutkimusympäristöön. Lounaan aikana ja jälkeen saamme esittelyn Flavoriasta ja Aistilasta. \n12:45 – 14:30 Kahdenkeskisiä tapaamisia Team Finland -toimijoiden ja Aistilan kanssa\nIlmoita halukkuudestasi keskusteluun ELY-keskuksen\, Viexpon\, Business Finlandin\, Finnveran tai Aistilan edustajan kanssa ilmoittautumislomakkeella. \nIlmoittaudu viimeistään 19.9. tällä lomakkeella. \nAamupäivän seminaariosuus järjestetään SparkUpissa\, joka sijaitsee Turun Tiedepuistossa ElectroCity-rakennuksessa osoitteessa Tykistökatu 4 B\, 20520 Turku. (Esteetön kulku eri kautta. Kysy tarvittaessa lisää.)\nLounas ja iltapäivän ohjelma järjestetään lyhyen kävelymatkan päässä sijaitsevan tutkimusravintola Flavorian tiloissa (Turun yliopisto\, Kiinamyllynkatu 10\, 20520 Turku). \nTapahtuma on suunnattu erityisesti suomalaisille elintarvikealan yrityksille\, joilla on kiinnostusta ja potentiaalia aloittaa vienti tai kehittää nykyistä vientiään. Päivän aikana kuulet erilaisista rahoitusvaihtoehdoista\, joita yrityksillä on käytössä kansainvälistymisen tueksi. Kerromme eri ratkaisuista sekä yksityisellä että julkisella puolella. Yrityksellä voi olla tarve isoille investoinneille tai pienille kehittämishankkeille\, mutta aina löytyy jokin rahoitusinstrumentti. \nVierailemme myös Turun yliopiston tutkimusravintolassa Flavoriassa ja Aistikattilassa (www.flavoria.fi). Flavoriassa tehdään sekä tieteellistä että kaupallista tutkimusta tarjoten tutkimusmahdollisuuksia niin tutkimus- ja opetuslaitoksille\, opinnäytetöille kuin tuotteita ja palveluita kehittäville yrityksille. \nTilaisuuden päätteeksi yritysten edustajilla on mahdollisuus varata kahdenkeskistä neuvonta-aikaa Aistilan\, ELY-keskuksen\, Business Finlandin\, Viexpon tai Finnveran asiantuntijoiden kanssa. Asiantuntijat neuvovat esimerkiksi kohdemaan valinnassa ja erilaisissa rahoitusvaihtoehdoissa\, joita yritys voi hyödyntää viennin aloittamisessa tai kasvattamisessa. Voit myös keskustella asiantuntijoidemme kanssa siitä\, soveltuvatko tuotteesi vientiin ja mitä viennin aloittaminen vaatii yritykseltäsi. Neuvonta ja ohjelma ovat yrityksille täysin maksutonta\, eikä osallistuminen sido yritystä mihinkään. \nTilaisuus on maksuton osallistujille (lounas omakustanteinen). \nWest Coast Food Export verkossa. \nJärjestäjät: ELY-keskus\, Business Finland\, Viexpo\, Finnvera \nTule mukaan kuulemaan ajankohtaisia puheenvuoroja aiheesta ja keskustelemaan asiantuntijoiden kanssa yrityksenne vaihtoehdoista!
URL:https://wtc-turku.fi/event/west-coast-food-export/
LOCATION:SparkUp\, Tykistökatu 4 B\, Turku\, 20520\, Suomi
ATTACH;FMTTYPE=image/jpeg:https://wtc-turku.fi/wp-content/uploads/2022/08/West-Coast-Food-Export-Turku.jpg
END:VEVENT
END:VCALENDAR