BEGIN:VCALENDAR
VERSION:2.0
PRODID:-//WTC Turku - ECPv6.15.20//NONSGML v1.0//EN
CALSCALE:GREGORIAN
METHOD:PUBLISH
X-ORIGINAL-URL:https://wtc-turku.fi
X-WR-CALDESC:Tapahtumat WTC Turku
REFRESH-INTERVAL;VALUE=DURATION:PT1H
X-Robots-Tag:noindex
X-PUBLISHED-TTL:PT1H
BEGIN:VTIMEZONE
TZID:Europe/Helsinki
BEGIN:DAYLIGHT
TZOFFSETFROM:+0200
TZOFFSETTO:+0300
TZNAME:EEST
DTSTART:20210328T010000
END:DAYLIGHT
BEGIN:STANDARD
TZOFFSETFROM:+0300
TZOFFSETTO:+0200
TZNAME:EET
DTSTART:20211031T010000
END:STANDARD
BEGIN:DAYLIGHT
TZOFFSETFROM:+0200
TZOFFSETTO:+0300
TZNAME:EEST
DTSTART:20220327T010000
END:DAYLIGHT
BEGIN:STANDARD
TZOFFSETFROM:+0300
TZOFFSETTO:+0200
TZNAME:EET
DTSTART:20221030T010000
END:STANDARD
BEGIN:DAYLIGHT
TZOFFSETFROM:+0200
TZOFFSETTO:+0300
TZNAME:EEST
DTSTART:20230326T010000
END:DAYLIGHT
BEGIN:STANDARD
TZOFFSETFROM:+0300
TZOFFSETTO:+0200
TZNAME:EET
DTSTART:20231029T010000
END:STANDARD
END:VTIMEZONE
BEGIN:VEVENT
DTSTART;VALUE=DATE:20221031
DTEND;VALUE=DATE:20221105
DTSTAMP:20260422T221659
CREATED:20220905T121844Z
LAST-MODIFIED:20220905T121844Z
UID:4792-1667174400-1667606399@wtc-turku.fi
SUMMARY:Kansainvälistymällä kasvuun – Kauppakamareiden kansainvälistymisviikko 2022
DESCRIPTION:Kauppakamarit ympäri Suomen järjestävät tänäkin vuonna yhteisen Kansainvälistymällä kasvuun -viikon 31.10.-4.11.22. \nViikon aikana vahvistamme yritysten osaamista muun muassa kansainvälisten osaajien rekrytoimisessa sekä tuomme esille uusien markkinoiden mahdollisuuksia. \nTilaisuudet ovat maksuttomia ja avoimia kaikille kiinnostuneille. \nVaraa kalenteriisi 31.10.-4.11.22! \nLisätiedot ja ilmoittautumiset täältä.
URL:https://wtc-turku.fi/event/kansainvalistymalla-kasvuun-kauppakamareiden-kansainvalistymisviikko-2022/
LOCATION:Online
ATTACH;FMTTYPE=image/png:https://wtc-turku.fi/wp-content/uploads/2022/09/kv-viikko-banneri-2022.png
END:VEVENT
BEGIN:VEVENT
DTSTART;TZID=Europe/Helsinki:20221102T130000
DTEND;TZID=Europe/Helsinki:20221102T143000
DTSTAMP:20260422T221659
CREATED:20220726T101804Z
LAST-MODIFIED:20220927T071232Z
UID:4586-1667394000-1667399400@wtc-turku.fi
SUMMARY:Talent Boost Talks - Miten luodaan onnistunut globaali työnantajabrändi
DESCRIPTION:HUOM! Tapahtuma on englanninkielinen! \nCompetition between companies for talent is fierce and global.  Employer branding makes companies stand out in the employer market – for better or worse. We invite companies to join our Talent Boost Talks event to learn from Spotify\, If\, Valmet Automotive and others what makes a successful global employer brand. \nAgenda:  \n13.00 Welcome Words\, Tapani Mylly\, CMO at Turku Science Park Ltd and Olli Hakala\, Liaison Manager at Turku Chamber of Commerce \n13.05 Fireside chat: Attracting and Retaining Tech Talents at Spotify\, Marcin Floryan\, Technology Operations Lead at Spotify and Milla Heikkilä\, Chief Happiness Officer & Partner at Sofokus \n13.45 Fireside chat Q&A \n13.50 Panel discussion: What makes a successful global employer brand?\, moderator Kimmo Laine\, Head of Growth at Heltti \n\nTiina Vainio\, Tech Community and Growth Partner at If\nIra Silvendoin\, HR Director at Valmet Automotive\nTBA\n\n14.25 Wrap up\, Tapani Mylly\, CMO at Turku Science Park Ltd and Olli Hakala\, Liaison Manager at Turku Chamber of Commerce \nIn cooperation with Turku Chamber of Commerce and Turku Business Region. \nRegister here: https://www.lyyti.in/TalentBoostTalks_2022 \n 
URL:https://wtc-turku.fi/event/talent-boost-talks-miten-luodaan-onnistunut-globaali-tyonantajabrandi/
LOCATION:Online
ATTACH;FMTTYPE=image/jpeg:https://wtc-turku.fi/wp-content/uploads/2022/07/Talent-Boost-Talks-0211-image.jpg
END:VEVENT
END:VCALENDAR