BEGIN:VCALENDAR
VERSION:2.0
PRODID:-//WTC Turku - ECPv6.15.20//NONSGML v1.0//EN
CALSCALE:GREGORIAN
METHOD:PUBLISH
X-ORIGINAL-URL:https://wtc-turku.fi
X-WR-CALDESC:Tapahtumat WTC Turku
REFRESH-INTERVAL;VALUE=DURATION:PT1H
X-Robots-Tag:noindex
X-PUBLISHED-TTL:PT1H
BEGIN:VTIMEZONE
TZID:Europe/Helsinki
BEGIN:DAYLIGHT
TZOFFSETFROM:+0200
TZOFFSETTO:+0300
TZNAME:EEST
DTSTART:20210328T010000
END:DAYLIGHT
BEGIN:STANDARD
TZOFFSETFROM:+0300
TZOFFSETTO:+0200
TZNAME:EET
DTSTART:20211031T010000
END:STANDARD
BEGIN:DAYLIGHT
TZOFFSETFROM:+0200
TZOFFSETTO:+0300
TZNAME:EEST
DTSTART:20220327T010000
END:DAYLIGHT
BEGIN:STANDARD
TZOFFSETFROM:+0300
TZOFFSETTO:+0200
TZNAME:EET
DTSTART:20221030T010000
END:STANDARD
BEGIN:DAYLIGHT
TZOFFSETFROM:+0200
TZOFFSETTO:+0300
TZNAME:EEST
DTSTART:20230326T010000
END:DAYLIGHT
BEGIN:STANDARD
TZOFFSETFROM:+0300
TZOFFSETTO:+0200
TZNAME:EET
DTSTART:20231029T010000
END:STANDARD
END:VTIMEZONE
BEGIN:VEVENT
DTSTART;TZID=Europe/Helsinki:20221109T083000
DTEND;TZID=Europe/Helsinki:20221109T100000
DTSTAMP:20260422T235221
CREATED:20220822T073339Z
LAST-MODIFIED:20221026T103112Z
UID:4756-1667982600-1667988000@wtc-turku.fi
SUMMARY:WTC & EEN Aamukahvit: Viro
DESCRIPTION:Katsaus Viron liiketoimintaympäristöön. Tapahtuma on tarkoitettu kaikille\, jotka suunnittelevat liiketoiminnan aloittamista tai kasvattamista Virossa. Tapahtuma alkaa klo 8.30 aamukahvilla\, pienellä aamiaisella ja kuulumisten vaihdolla. Sen jälkeen kuulemme asiantuntijoiltamme mielenkiintoisia puheenvuoroja Viron liiketoimintaympäristöstä\, kulttuurista ja yrityskentästä. Ohjelman jälkeen on vielä hetki aikaa kupille kahvia ja verkostoitumiselle.  \n  \nPuhujina: \nAndrus Junolainen\, Viron kunniakonsuli Turussa \nJarkko Vähä-Tahlo\, Executive Vice President\, Stera Technologies Oy \nIrene Surva-lehtonen\, vientineuvoja\, Estonian Business and Innovation Agency \nPilvi Hämäläinen\, maajohtaja Estonian Business and Innovation Agency \n  \nMaksuton tilaisuus\, mutta ennakkoilmoittautuminen vaaditaan: https://www.lyyti.in/WTC_EEN_Aamukahvit_Viro
URL:https://wtc-turku.fi/event/wtc-een-aamukahvit-viro/
LOCATION:Vierailukeskus Joki\, Lemminkäisenkatu 12B\, Turku\, Suomi
ATTACH;FMTTYPE=image/jpeg:https://wtc-turku.fi/wp-content/uploads/2022/08/WTC-EEN-Aamukahvit-Viro.jpg
END:VEVENT
END:VCALENDAR