BEGIN:VCALENDAR
VERSION:2.0
PRODID:-//WTC Turku - ECPv6.15.20//NONSGML v1.0//EN
CALSCALE:GREGORIAN
METHOD:PUBLISH
X-ORIGINAL-URL:https://wtc-turku.fi
X-WR-CALDESC:Tapahtumat WTC Turku
REFRESH-INTERVAL;VALUE=DURATION:PT1H
X-Robots-Tag:noindex
X-PUBLISHED-TTL:PT1H
BEGIN:VTIMEZONE
TZID:Europe/Helsinki
BEGIN:DAYLIGHT
TZOFFSETFROM:+0200
TZOFFSETTO:+0300
TZNAME:EEST
DTSTART:20210328T010000
END:DAYLIGHT
BEGIN:STANDARD
TZOFFSETFROM:+0300
TZOFFSETTO:+0200
TZNAME:EET
DTSTART:20211031T010000
END:STANDARD
BEGIN:DAYLIGHT
TZOFFSETFROM:+0200
TZOFFSETTO:+0300
TZNAME:EEST
DTSTART:20220327T010000
END:DAYLIGHT
BEGIN:STANDARD
TZOFFSETFROM:+0300
TZOFFSETTO:+0200
TZNAME:EET
DTSTART:20221030T010000
END:STANDARD
BEGIN:DAYLIGHT
TZOFFSETFROM:+0200
TZOFFSETTO:+0300
TZNAME:EEST
DTSTART:20230326T010000
END:DAYLIGHT
BEGIN:STANDARD
TZOFFSETFROM:+0300
TZOFFSETTO:+0200
TZNAME:EET
DTSTART:20231029T010000
END:STANDARD
END:VTIMEZONE
BEGIN:VEVENT
DTSTART;TZID=Europe/Helsinki:20221202T140000
DTEND;TZID=Europe/Helsinki:20221202T170000
DTSTAMP:20260422T235210
CREATED:20221109T120148Z
LAST-MODIFIED:20221109T120350Z
UID:4889-1669989600-1670000400@wtc-turku.fi
SUMMARY:WTC Turku ry vuosikokous
DESCRIPTION:Tervetuloa WTC Turku ry:n vuosikokoukseen! \nVuosikokouksessa käsitellään sille sääntömääräisesti kuuluvat asiat. \nVuosikokous on avoin kaikille\, mutta ääni- ja puheoikeus on vain yhdistyksen jäsenillä. \nEnnakkoilmoittautuminen edellytetään\, linkki alla. \nVirallisen kokouksen jälkeen on avoin osuus keskustelulle. \nTule kuulemaan WTC Turun kehittyvästä toiminnasta vuonna -23! \nKahvitarjoilu. \nMitä? WTC Turku vuosikokous\nMissä? SparkUp\, neuvottelutila Silo\, 2. kerros\, Tykistökatu 4\, 20520 Turku\nMilloin? Perjantaina 2.12.2022 alkaen klo 14.00 \n\n\n\n\n\n\nIlmoittaudu mukaan 28.11. mennessä tästä linkistä. \n 
URL:https://wtc-turku.fi/event/wtc-turku-ry-vuosikokous/
LOCATION:SparkUp\, Tykistökatu 4 B\, Turku\, 20520\, Suomi
ATTACH;FMTTYPE=image/jpeg:https://wtc-turku.fi/wp-content/uploads/2022/11/WTC-Vuosikokous.jpg
END:VEVENT
END:VCALENDAR