BEGIN:VCALENDAR
VERSION:2.0
PRODID:-//WTC Turku - ECPv6.15.20//NONSGML v1.0//EN
CALSCALE:GREGORIAN
METHOD:PUBLISH
X-ORIGINAL-URL:https://wtc-turku.fi
X-WR-CALDESC:Tapahtumat WTC Turku
REFRESH-INTERVAL;VALUE=DURATION:PT1H
X-Robots-Tag:noindex
X-PUBLISHED-TTL:PT1H
BEGIN:VTIMEZONE
TZID:Europe/Helsinki
BEGIN:DAYLIGHT
TZOFFSETFROM:+0200
TZOFFSETTO:+0300
TZNAME:EEST
DTSTART:20210328T010000
END:DAYLIGHT
BEGIN:STANDARD
TZOFFSETFROM:+0300
TZOFFSETTO:+0200
TZNAME:EET
DTSTART:20211031T010000
END:STANDARD
BEGIN:DAYLIGHT
TZOFFSETFROM:+0200
TZOFFSETTO:+0300
TZNAME:EEST
DTSTART:20220327T010000
END:DAYLIGHT
BEGIN:STANDARD
TZOFFSETFROM:+0300
TZOFFSETTO:+0200
TZNAME:EET
DTSTART:20221030T010000
END:STANDARD
BEGIN:DAYLIGHT
TZOFFSETFROM:+0200
TZOFFSETTO:+0300
TZNAME:EEST
DTSTART:20230326T010000
END:DAYLIGHT
BEGIN:STANDARD
TZOFFSETFROM:+0300
TZOFFSETTO:+0200
TZNAME:EET
DTSTART:20231029T010000
END:STANDARD
END:VTIMEZONE
BEGIN:VEVENT
DTSTART;TZID=Europe/Helsinki:20221207T083000
DTEND;TZID=Europe/Helsinki:20221207T100000
DTSTAMP:20260423T013523
CREATED:20220822T074237Z
LAST-MODIFIED:20221107T101002Z
UID:4768-1670401800-1670407200@wtc-turku.fi
SUMMARY:SOME kansainvälistymisen työkaluna
DESCRIPTION:Miten sinä voit hyödyntää somea kasvussa ja kansainvälistymisessä? \nMiltä näyttää digitaalinen markkinointi ja some tänään ja huomenna?  \nToimiiko some myös b2b-ympäristössä kasvun ja kansainvälistymisen työkaluna? \nPuhujina: \n\nEmilia Vuorela\, Head of Marketing & Communications at Pemamek\nMatias Mero\, CEO at Drama Queen\nSaara Tikkanen\, Senior Lecturer Digital Marketing at Turku University of Applied Sciences\n\nTule kuuntelemaan ja keskustelemaan\, verkostoitumaan ja viihtymään! \nIlmoittaudu mukaan nyt: https://www.lyyti.in/some_kansainvalistymisessa \n 
URL:https://wtc-turku.fi/event/some-kansainvalistymisen-tyokaluna/
LOCATION:Vierailukeskus Joki\, Lemminkäisenkatu 12B\, Turku\, Suomi
ATTACH;FMTTYPE=image/jpeg:https://wtc-turku.fi/wp-content/uploads/2022/08/WTC-SOME.jpg
END:VEVENT
END:VCALENDAR