BEGIN:VCALENDAR
VERSION:2.0
PRODID:-//WTC Turku - ECPv6.15.20//NONSGML v1.0//EN
CALSCALE:GREGORIAN
METHOD:PUBLISH
X-WR-CALNAME:WTC Turku
X-ORIGINAL-URL:https://wtc-turku.fi
X-WR-CALDESC:Tapahtumat WTC Turku
REFRESH-INTERVAL;VALUE=DURATION:PT1H
X-Robots-Tag:noindex
X-PUBLISHED-TTL:PT1H
BEGIN:VTIMEZONE
TZID:Europe/Helsinki
BEGIN:DAYLIGHT
TZOFFSETFROM:+0200
TZOFFSETTO:+0300
TZNAME:EEST
DTSTART:20220327T010000
END:DAYLIGHT
BEGIN:STANDARD
TZOFFSETFROM:+0300
TZOFFSETTO:+0200
TZNAME:EET
DTSTART:20221030T010000
END:STANDARD
BEGIN:DAYLIGHT
TZOFFSETFROM:+0200
TZOFFSETTO:+0300
TZNAME:EEST
DTSTART:20230326T010000
END:DAYLIGHT
BEGIN:STANDARD
TZOFFSETFROM:+0300
TZOFFSETTO:+0200
TZNAME:EET
DTSTART:20231029T010000
END:STANDARD
BEGIN:DAYLIGHT
TZOFFSETFROM:+0200
TZOFFSETTO:+0300
TZNAME:EEST
DTSTART:20240331T010000
END:DAYLIGHT
BEGIN:STANDARD
TZOFFSETFROM:+0300
TZOFFSETTO:+0200
TZNAME:EET
DTSTART:20241027T010000
END:STANDARD
END:VTIMEZONE
BEGIN:VEVENT
DTSTART;TZID=Europe/Helsinki:20230118T080000
DTEND;TZID=Europe/Helsinki:20230927T170000
DTSTAMP:20260425T071509
CREATED:20230118T072355Z
LAST-MODIFIED:20230622T064703Z
UID:5008-1674028800-1695834000@wtc-turku.fi
SUMMARY:Kirjakerho
DESCRIPTION:Paras kirjakerho aloitti tammikuussa 2023. Yhteistyössä WTC Turun\, Turku Science Parkin ja Vierailu- ja innovaatiokeskus Joen kanssa järjestetty 2022 Nordic Business Forum livestriimauksen jälkeen ylpeänä esittelimme uuden tavan oppia\, verkostoitua ja viihtyä vuonna 2023: Paras kirjakerho. \nKirjakerho tapaa joka toinen kuukausi keskustelemaan yhdessä valitusta kirjasta. Suurin osa valituista kirjoista on saatavilla vain englanniksi\, ja keskustelut käydään myös englanniksi. \nIlmoittaudu mukaan nyt – osallistuminen on ilmaista\, mutta kirjat jokainen hankkii itse. Kirjakerhon tapaamisajat ja paikat ilmoitetaan osallistujille myöhemmin. \nIlmoittaudu mukaan klikkaamalla tästä.
URL:https://wtc-turku.fi/event/kirjakerho/
ATTACH;FMTTYPE=image/jpeg:https://wtc-turku.fi/wp-content/uploads/2023/01/Book-Club.jpg
END:VEVENT
BEGIN:VEVENT
DTSTART;VALUE=DATE:20230306
DTEND;VALUE=DATE:20230311
DTSTAMP:20260425T071509
CREATED:20230215T124242Z
LAST-MODIFIED:20230215T124242Z
UID:5105-1678060800-1678492799@wtc-turku.fi
SUMMARY:TechTurku Week
DESCRIPTION:Welcome to\nTechTurku Week 2023!\nThis year’s TechTurku Week will be organized for the 12th time. It is a hybrid event combining on-site presentations and discussions\, online matchmaking and guided tours of tech industry premises in Turku. Most of the sessions take place around the Kupittaa district in Turku. A selection of the week’s sessions are streamed\, which enables the international participants to take part remotely. \nThe strength of the Turku region lies in the close cross-sectoral cooperation between different industries and universities—networking comes naturally in Turku. During the week\, we will take a closer look at this collaboration\, its outcomes and future perspectives such as latest research topics and their applications for industries. \nThe week’s themes include health technologies\, digitalization & cybersecurity\, manufacturing industries and maritime technologies. \nThe week is not only about showcasing the latest technologies but also about finding new business opportunities and expanding networks. Online matchmaking is open on 14th and 15th March. \nThe event is free of charge but requires registration. \n  \nTervetuloa\nTechTurku Weekiin 2023!\nTänä vuonna 12. kertaa järjestettävä TechTurku Week on hybriditapahtuma\, jossa yhdistyvät kiinnostavat esitykset ja keskustelut\, innovaatiokilpailut ja virtuaalinen matchmaking. Tilaisuudet järjestetään valtaosin Kupittaan tiedepuiston alueella. Osa tapahtumista myös striimataan. \nTurun seudun vahvuus syntyy eri toimialojen ja korkeakoulujen kiinteästä yhteistyöstä: verkostoituminen käy Turussa helposti. Viikon aikana syvennytään tähän yhteistyöhön\, sen tuloksiin ja tulevaisuuteen: pureudumme uusimpien tutkimusten aiheisiin ja niiden sovelluskohteisiin teollisuudessa. \nViikon teemoina ovat mm. terveysteknologia\, digitalisaatio ja kyberturvallisuus\, valmistava teollisuus sekä merenkulun tekniikka. \nOhjelmassa ei ole pelkkää uusimpiin teknologioihin tutustumista\, vaan yhtä tärkeää on verkostojen ja liiketoimintamahdollisuuksien laajentaminen. Virtuaalinen matchmaking on auki 14.–15.3. \nTapahtuma on maksuton mutta edellyttää ilmoittautumista.
URL:https://wtc-turku.fi/event/techturku-week/
ATTACH;FMTTYPE=image/jpeg:https://wtc-turku.fi/wp-content/uploads/2023/02/TechTurku-Week.jpg
END:VEVENT
BEGIN:VEVENT
DTSTART;TZID=Europe/Helsinki:20230308T083000
DTEND;TZID=Europe/Helsinki:20230308T100000
DTSTAMP:20260425T071509
CREATED:20230206T121200Z
LAST-MODIFIED:20230209T083544Z
UID:5031-1678264200-1678269600@wtc-turku.fi
SUMMARY:WTC - EEN Aamu: Yhdysvaltain markkinat
DESCRIPTION:Katsaus Yhdysvaltain liiketoimintaympäristöön.  \nTapahtuma on tarkoitettu kaikille\, jotka suunnittelevat liiketoiminnan aloittamista tai kasvattamista Yhdysvalloissa. \nKolme asiantuntijapuheenvuoroa tarjoaa erilaiset näkökulmat Yhdysvaltain markkinoille\, sekä vinkkejä\, parhaita käytäntöjä ja kokemuksia. \nOHJELMA: \n8.30 Kahvia\, pientä aamiaista ja verkostoitumista \n8.40 Tervetuloa toivottaa WTC & EEN \n8.45 Puheenvuorot \n\nUSA:n itseymmärryksestä – ihanteita\, arvoja ja yhteentörmäyksiä – Benita Heiskanen\, Professor of North American Studies\, Turun Yliopisto\nMiten liikkeelle USA:n markkinoilla – Tomi Rauste\, Leading consultant\, Crash Course USA\nTeleste Go West – Pasi Järvenpää\, Senior VP\, R&D\, Teleste Corporation\n\n9.30 Verkostoitumista ja keskustelua\, vielä kuppi kahvia \n10.00 Tilaisuus päättyy \nTapahtuma on maksuton ja kaikille avoin\, mutta vaatii ennakkoilmoittautumisen. \nIlmoittaudu mukaan tästä.
URL:https://wtc-turku.fi/event/wtc-een-aamu-yhdysvaltain-markkinat/
LOCATION:Vierailukeskus Joki\, Lemminkäisenkatu 12B\, Turku\, Suomi
ATTACH;FMTTYPE=image/jpeg:https://wtc-turku.fi/wp-content/uploads/2023/02/WTC-EEN-Aamu-USA.jpg
END:VEVENT
END:VCALENDAR