BEGIN:VCALENDAR
VERSION:2.0
PRODID:-//WTC Turku - ECPv6.15.20//NONSGML v1.0//EN
CALSCALE:GREGORIAN
METHOD:PUBLISH
X-WR-CALNAME:WTC Turku
X-ORIGINAL-URL:https://wtc-turku.fi
X-WR-CALDESC:Tapahtumat WTC Turku
REFRESH-INTERVAL;VALUE=DURATION:PT1H
X-Robots-Tag:noindex
X-PUBLISHED-TTL:PT1H
BEGIN:VTIMEZONE
TZID:Europe/Helsinki
BEGIN:DAYLIGHT
TZOFFSETFROM:+0200
TZOFFSETTO:+0300
TZNAME:EEST
DTSTART:20220327T010000
END:DAYLIGHT
BEGIN:STANDARD
TZOFFSETFROM:+0300
TZOFFSETTO:+0200
TZNAME:EET
DTSTART:20221030T010000
END:STANDARD
BEGIN:DAYLIGHT
TZOFFSETFROM:+0200
TZOFFSETTO:+0300
TZNAME:EEST
DTSTART:20230326T010000
END:DAYLIGHT
BEGIN:STANDARD
TZOFFSETFROM:+0300
TZOFFSETTO:+0200
TZNAME:EET
DTSTART:20231029T010000
END:STANDARD
BEGIN:DAYLIGHT
TZOFFSETFROM:+0200
TZOFFSETTO:+0300
TZNAME:EEST
DTSTART:20240331T010000
END:DAYLIGHT
BEGIN:STANDARD
TZOFFSETFROM:+0300
TZOFFSETTO:+0200
TZNAME:EET
DTSTART:20241027T010000
END:STANDARD
END:VTIMEZONE
BEGIN:VEVENT
DTSTART;TZID=Europe/Helsinki:20231205T090000
DTEND;TZID=Europe/Helsinki:20231205T102000
DTSTAMP:20260422T011828
CREATED:20231108T115320Z
LAST-MODIFIED:20231110T103643Z
UID:5700-1701766800-1701771600@wtc-turku.fi
SUMMARY:Ukrainan jälleenrakentaminen - Turun kauppakamari ja WTC Turku
DESCRIPTION:Turun kauppakamari ja WTC Turku järjestävät yhteistyössä Elinkeinoelämän keskusliiton ja Business Finlandin kanssa Teams-tilaisuuden Ukrainan jälleenrakentamisesta tiistaina 5.12. klo 9:00–10:15. \nElinkeinoelämällä tulee olemaan keskeinen rooli Ukrainan auttamisessa\, kun maan jälleenrakentamisen aika koittaa. Jälleenrakentaminen tulee viemään vuosia\, ja siihen tarvitaan eri maiden\, toimialojen ja toimijoiden yhteistyötä ja osaamista. Tilaisuudessa käsitellään jälleenrakentamisen mahdollisuuksia elinkeinoelämälle. Lisäksi kuullaan\, miten Team Finland -verkosto tukee yrityksiä sopivien verkostojen ja rahoituskanavien löytämisessä. \nOHJELMA \n9.00                  Tilaisuuden avaus – Yhteyspäällikkö Olli Hakala\, Turun kauppakamari \n9.05                  Jälleenrakentamisen mahdollisuudet suomalaisille yrityksille – Johtaja Petri Vuorio\, EK \n9.30                  Team Finland -verkosto jälleenrakentamisen tukena – Johtaja Reijo Kangas\, Business Finland \n9.50                  Käytännön neuvoja ja ohjeita Ukrainaan menijöille – CEO Jaana Rekolainen\, EastCham Finland ry \nn 10.20            Tilaisuus päättyy \nIlmoittaudu mukaan tästä.
URL:https://wtc-turku.fi/event/ukrainan-jalleenrakentaminen-turun-kauppakamari-ja-wtc-turku/
LOCATION:Online
ATTACH;FMTTYPE=image/jpeg:https://wtc-turku.fi/wp-content/uploads/2023/11/Ukraina-webinaari.jpg
END:VEVENT
END:VCALENDAR