BEGIN:VCALENDAR
VERSION:2.0
PRODID:-//WTC Turku - ECPv6.15.20//NONSGML v1.0//EN
CALSCALE:GREGORIAN
METHOD:PUBLISH
X-WR-CALNAME:WTC Turku
X-ORIGINAL-URL:https://wtc-turku.fi
X-WR-CALDESC:Tapahtumat WTC Turku
REFRESH-INTERVAL;VALUE=DURATION:PT1H
X-Robots-Tag:noindex
X-PUBLISHED-TTL:PT1H
BEGIN:VTIMEZONE
TZID:Europe/Helsinki
BEGIN:DAYLIGHT
TZOFFSETFROM:+0200
TZOFFSETTO:+0300
TZNAME:EEST
DTSTART:20230326T010000
END:DAYLIGHT
BEGIN:STANDARD
TZOFFSETFROM:+0300
TZOFFSETTO:+0200
TZNAME:EET
DTSTART:20231029T010000
END:STANDARD
BEGIN:DAYLIGHT
TZOFFSETFROM:+0200
TZOFFSETTO:+0300
TZNAME:EEST
DTSTART:20240331T010000
END:DAYLIGHT
BEGIN:STANDARD
TZOFFSETFROM:+0300
TZOFFSETTO:+0200
TZNAME:EET
DTSTART:20241027T010000
END:STANDARD
BEGIN:DAYLIGHT
TZOFFSETFROM:+0200
TZOFFSETTO:+0300
TZNAME:EEST
DTSTART:20250330T010000
END:DAYLIGHT
BEGIN:STANDARD
TZOFFSETFROM:+0300
TZOFFSETTO:+0200
TZNAME:EET
DTSTART:20251026T010000
END:STANDARD
END:VTIMEZONE
BEGIN:VEVENT
DTSTART;TZID=Europe/Helsinki:20240117T170000
DTEND;TZID=Europe/Helsinki:20240117T180000
DTSTAMP:20260421T233020
CREATED:20240111T065443Z
LAST-MODIFIED:20240111T065443Z
UID:5901-1705510800-1705514400@wtc-turku.fi
SUMMARY:METSÄSEKTORIN LIIKETOIMINTAMAHDOLLISUUDET POHJOIS-AMERIKASSA
DESCRIPTION:Tervetuloa Forest Joensuun järjestämään webinaariin\, jossa käsitellään metsäsektorin nykytilaa ja mahdollisuuksia suomalaisille yrityksille Kanadan Brittiläisessä Kolumbiassa sekä Yhdysvaltojen länsirannikolla ja Etelävaltioissa. Tämä webinaari on tarkoitettu suomalaisille metsäalalla toimiville yrityksille\, jotka ovat kiinnostuneita laajentamaan toimintaansa Pohjois-Amerikan markkinoille. \nWebinaari järjestetään Ke 17.01.2024 klo 17:00-18:00. \nWebinaarin osallistumislinkki lähetetään ilmoittautuneille\, ilmoittaudu siis mukaan ti 16.1.2024 mennessä tällä lomakkeella Forest Joensuu: Metsäsektorin liiketoimintamahdollisuudet Pohjois-Amerikassa (lyyti.fi)  \nEsittäjät:\n•    Jukka Matikainen\, Forest Joensuun Pohjois-Amerikan edustaja\, Nordic Trading House\, Vancouver\n•    Ulla Lainio\, Senior Advisor\, Business Finland USA\, Washington D.C.\n•    Jaakko Autere\, Trade Comissioner\, Embassy of Finland\, Ottawa\, Kanada \nTässä webinaarissa saatte ainutlaatuista tietoa metsäsektorin kehityksestä ja liiketoimintamahdollisuuksista Pohjois-Amerikassa. Jukka Matikainen jakaa asiantuntijuutensa ja näkemyksensä alueen metsätalouden nykytilasta\, ja tulevaisuuden näkymistä sekä keskustelemme markkinoillepääsyn haasteiden ratkaisuista. Lisäksi kuulemme puheenvuorot Business Finlandin USA:n Ulla Lainiolta ja Suomen Kanadan suurlähetystön Jaakko Autereelta. Ullalla on pitkä kokemus metsäalalta ja Jaakko vuorostaan vastaa Suomen metsäasioista Kanadassa. \nLisäksi esittelemme Forest Joensuun tulevia Pohjois-Amerikkaan liittyviä tapahtumia ja vierailuja\, mukaan lukien Kanadan Ottawassa syyskuussa järjestettävä Demo International 2024 -tapahtuma\, joka on yksi suurimmista metsäalan tapahtumista Pohjois-Amerikassa ja se järjestetään vain joka 4. vuosi.
URL:https://wtc-turku.fi/event/metsasektorin-liiketoimintamahdollisuudet-pohjois-amerikassa/
LOCATION:Online
ATTACH;FMTTYPE=image/jpeg:https://wtc-turku.fi/wp-content/uploads/2023/10/Webinar.jpg
END:VEVENT
END:VCALENDAR