BEGIN:VCALENDAR
VERSION:2.0
PRODID:-//WTC Turku - ECPv6.15.20//NONSGML v1.0//EN
CALSCALE:GREGORIAN
METHOD:PUBLISH
X-WR-CALNAME:WTC Turku
X-ORIGINAL-URL:https://wtc-turku.fi
X-WR-CALDESC:Tapahtumat WTC Turku
REFRESH-INTERVAL;VALUE=DURATION:PT1H
X-Robots-Tag:noindex
X-PUBLISHED-TTL:PT1H
BEGIN:VTIMEZONE
TZID:Europe/Helsinki
BEGIN:DAYLIGHT
TZOFFSETFROM:+0200
TZOFFSETTO:+0300
TZNAME:EEST
DTSTART:20230326T010000
END:DAYLIGHT
BEGIN:STANDARD
TZOFFSETFROM:+0300
TZOFFSETTO:+0200
TZNAME:EET
DTSTART:20231029T010000
END:STANDARD
BEGIN:DAYLIGHT
TZOFFSETFROM:+0200
TZOFFSETTO:+0300
TZNAME:EEST
DTSTART:20240331T010000
END:DAYLIGHT
BEGIN:STANDARD
TZOFFSETFROM:+0300
TZOFFSETTO:+0200
TZNAME:EET
DTSTART:20241027T010000
END:STANDARD
BEGIN:DAYLIGHT
TZOFFSETFROM:+0200
TZOFFSETTO:+0300
TZNAME:EEST
DTSTART:20250330T010000
END:DAYLIGHT
BEGIN:STANDARD
TZOFFSETFROM:+0300
TZOFFSETTO:+0200
TZNAME:EET
DTSTART:20251026T010000
END:STANDARD
END:VTIMEZONE
BEGIN:VEVENT
DTSTART;TZID=Europe/Helsinki:20240207T140000
DTEND;TZID=Europe/Helsinki:20240207T153000
DTSTAMP:20260421T220423
CREATED:20230607T082932Z
LAST-MODIFIED:20240118T064710Z
UID:5423-1707314400-1707319800@wtc-turku.fi
SUMMARY:WTC & EEN iltapäivä: Tanskan markkinat
DESCRIPTION:Tämä tapahtuma on englanninkielinen. \nEnglanninkielinen Tanskan markkinakatsaus järjestetään keskiviikkona\, 7.2.2024 klo 14.00-15.30 Vierailukeskus Joessa. Iltapäivän aikana keskitytään Tanskaan ja siihen\, miten voit laajentaa liiketoimintaasi tälle pohjoismaiselle markkinalle. Tapahtuma on tarkoitettu kaikille\, jotka ovat kiinnostuneita oppimaan lisää Tanskan markkinoista ja ovat kiinnostuneita aloittamaan tai kasvattamaan liiketoimintaansa Tanskassa. \nOhjelma: \n14.00 Verkostoitumista ja kahvia \n14.15 Puheenvuorot \n\nVerkostoista tukea kansainväliseen kasvuun – WTC Turku ja Enterprise Europe Network\nLiiketoiminnan aloittaminen Tanskassa\, Steen Damkier\, Tanskan maajohtaja\, Northstar Talent\nTanskan markkinakatsaus\, Mailiina Turanlahti\, Johtaja\, Skandinavia\, Business Finland\n\n15.15 Verkostoitumista \nVerkostoidu muiden paikallisten yritysten kanssa\, keskustele lisää puhujien kanssa ja voit myös tavata muita asiantuntijoita: \n\nNorthstar Talentin Mandana Heino\, Recruitment Consultant & Business Development Manager Nordics\, jonka kanssa voit myös varata erillisen tapaamisen ilmoittautumislomakkeella\nBusiness Finlandin Heidi Uotinen\, Denmark\, Finland Trade Center\nEEN:in and WTC Turun edustajat\n\n15.30 Tapahtuma päättyy \nTapahtuma on kaikille avoin ja maksuton\, mutta vaatii ennakkoilmoittautumisen täällä.
URL:https://wtc-turku.fi/event/wtc-een-iltapaiva-tanskan-markkinat/
LOCATION:Vierailukeskus Joki\, Lemminkäisenkatu 12B\, Turku\, Suomi
ATTACH;FMTTYPE=image/jpeg:https://wtc-turku.fi/wp-content/uploads/2023/06/WTC-EEN-Tanska-puhujat.jpg
END:VEVENT
END:VCALENDAR