BEGIN:VCALENDAR
VERSION:2.0
PRODID:-//WTC Turku - ECPv6.15.20//NONSGML v1.0//EN
CALSCALE:GREGORIAN
METHOD:PUBLISH
X-WR-CALNAME:WTC Turku
X-ORIGINAL-URL:https://wtc-turku.fi
X-WR-CALDESC:Tapahtumat WTC Turku
REFRESH-INTERVAL;VALUE=DURATION:PT1H
X-Robots-Tag:noindex
X-PUBLISHED-TTL:PT1H
BEGIN:VTIMEZONE
TZID:Europe/Helsinki
BEGIN:DAYLIGHT
TZOFFSETFROM:+0200
TZOFFSETTO:+0300
TZNAME:EEST
DTSTART:20230326T010000
END:DAYLIGHT
BEGIN:STANDARD
TZOFFSETFROM:+0300
TZOFFSETTO:+0200
TZNAME:EET
DTSTART:20231029T010000
END:STANDARD
BEGIN:DAYLIGHT
TZOFFSETFROM:+0200
TZOFFSETTO:+0300
TZNAME:EEST
DTSTART:20240331T010000
END:DAYLIGHT
BEGIN:STANDARD
TZOFFSETFROM:+0300
TZOFFSETTO:+0200
TZNAME:EET
DTSTART:20241027T010000
END:STANDARD
BEGIN:DAYLIGHT
TZOFFSETFROM:+0200
TZOFFSETTO:+0300
TZNAME:EEST
DTSTART:20250330T010000
END:DAYLIGHT
BEGIN:STANDARD
TZOFFSETFROM:+0300
TZOFFSETTO:+0200
TZNAME:EET
DTSTART:20251026T010000
END:STANDARD
END:VTIMEZONE
BEGIN:VEVENT
DTSTART;TZID=Europe/Helsinki:20240522T140000
DTEND;TZID=Europe/Helsinki:20240522T153000
DTSTAMP:20260421T181450
CREATED:20240325T105947Z
LAST-MODIFIED:20240425T054242Z
UID:6163-1716386400-1716391800@wtc-turku.fi
SUMMARY:WTC & EEN iltapäivä: Alankomaiden markkinat
DESCRIPTION:Tässä läsnäolotilaisuudessa keskitymme Alankomaiden markkinoihin. Tapahtuma on suunnattu kaikille\, jotka suunnittelevat liiketoiminnan aloittamista tai kasvattamista Alankomaissa. \nOhjelma: \n14.00 Tervetuloa toivottaa WTC ja EEN \n14.10 Tilaisuuden avaus – Alankomaiden kunniakonsuli\, Turun kauppakamarin toimitusjohtaja Kaisa Leiwo  \n14.15 Puheenvuorot \n\nAlankomaat kohdemarkkinana – Miina Ojanperä\, Alankomaiden suurlähetystö\nLiiketoiminnan aloitus Alankomaissa – Laura Dib\, Trademill Finland\nYrityscase: Oppeja ja onnistumisia Alankomaissa – Leena Lundell\, Aulis Lundell Oy\n\n15.10 Keskustelua ja verkostoitumista \n15.30 Tilaisuus päättyy \nTapahtuma on maksuton ja kaikille avoin\, mutta vaatii ennakkoilmoittautumisen tästä linkistä.
URL:https://wtc-turku.fi/event/wtc-een-iltapaiva-alankomaiden-markkinat/
LOCATION:Vierailukeskus Joki\, Lemminkäisenkatu 12B\, Turku\, Suomi
ATTACH;FMTTYPE=image/jpeg:https://wtc-turku.fi/wp-content/uploads/2024/03/WTC-EEN-Alankomaat-1.jpg
END:VEVENT
END:VCALENDAR