BEGIN:VCALENDAR
VERSION:2.0
PRODID:-//WTC Turku - ECPv6.15.20//NONSGML v1.0//EN
CALSCALE:GREGORIAN
METHOD:PUBLISH
X-WR-CALNAME:WTC Turku
X-ORIGINAL-URL:https://wtc-turku.fi
X-WR-CALDESC:Tapahtumat WTC Turku
REFRESH-INTERVAL;VALUE=DURATION:PT1H
X-Robots-Tag:noindex
X-PUBLISHED-TTL:PT1H
BEGIN:VTIMEZONE
TZID:Europe/Helsinki
BEGIN:DAYLIGHT
TZOFFSETFROM:+0200
TZOFFSETTO:+0300
TZNAME:EEST
DTSTART:20230326T010000
END:DAYLIGHT
BEGIN:STANDARD
TZOFFSETFROM:+0300
TZOFFSETTO:+0200
TZNAME:EET
DTSTART:20231029T010000
END:STANDARD
BEGIN:DAYLIGHT
TZOFFSETFROM:+0200
TZOFFSETTO:+0300
TZNAME:EEST
DTSTART:20240331T010000
END:DAYLIGHT
BEGIN:STANDARD
TZOFFSETFROM:+0300
TZOFFSETTO:+0200
TZNAME:EET
DTSTART:20241027T010000
END:STANDARD
BEGIN:DAYLIGHT
TZOFFSETFROM:+0200
TZOFFSETTO:+0300
TZNAME:EEST
DTSTART:20250330T010000
END:DAYLIGHT
BEGIN:STANDARD
TZOFFSETFROM:+0300
TZOFFSETTO:+0200
TZNAME:EET
DTSTART:20251026T010000
END:STANDARD
END:VTIMEZONE
BEGIN:VEVENT
DTSTART;TZID=Europe/Helsinki:20240523T100000
DTEND;TZID=Europe/Helsinki:20240523T113000
DTSTAMP:20260421T094408
CREATED:20240429T071347Z
LAST-MODIFIED:20240429T074903Z
UID:6240-1716458400-1716463800@wtc-turku.fi
SUMMARY:Lounasseminaari: EU:n uuden digisääntelyn vaikutus yrityksiin
DESCRIPTION:Tämä on WTC Turku Partneri Lukander Ruohola HTO:n järjestämä tilaisuus: EU:n uuden digisääntelyn vaikutus yrityksiin \nAika: torstai 23.5.2024 klo 10.00 \nPaikka: Aboa Vetus Ars Nova -museon Factory-tila \nIlmoittautuminen: Ilmoittaudu tilaisuuteen tästä\, viimeistään 16.5.2024 \nTilaisuus on maksuton\, mutta edellyttää ilmoittautumista. \nOsittain jo voimassa oleva EU:n digisääntely vaikuttaa jo laajasti kaikkiin yrityksiin\, ja jatkossa siihen liittyvien sääntelykokonaisuuksien vaikutus tulee olemaan erittäin merkittävä. Vaikka pääasiallisena kohteena ovat digitaalisuuden ympärille rakentuvat yritykset\, ulottaa se vaikutuksensa käytännössä jokaiseen yritykseen. Seminaarin avulla haluamme lisätä asiakkaidemme tietoisuutta tästä merkittävästä muutoksesta tuomalla esiin uudistukseen liittyvää lainsäädäntötaustaa ja tavoitteita\, mutta myös opastaa yrityksiä käytännön valmistautumisessa muutoksen vaikutuksiin. \nTilaisuuden ohjelma \nklo 10.00 – 11.30 Asiantuntijoiden puheenvuorot: \nJussi Mäkinen\, Teknologiateollisuus ry\nSääntelyaallosta kilpailukyvyn metsästykseen – mitkä ovat EU:n kriittiset tekijät suomalaisen teollisuuden kannalta? \nMikko Jalkanen\, Lukander Ruohola HTO\nAjatuksia ja huomioita erityisesti Data Actin yrityskenttään tuomista käytännön mahdollisuuksista ja toimenpide- ja muutostarpeista. \nAura Salla\, eduskunta\nEU:n digisääntelyn syyt ja seuraukset sekä käytännön vaikutukset yrityksien toimintaan. \nKlo 11.30 Lukander Ruohola HTO Oy:n tarjoama lounas \nAsiantuntijat tilaisuudessa\n\n\n\n\n\nJussi Mäkinen\njohtaja\, Teknologiateollisuus ry \nJussi Mäkinen vetää Teknologiateollisuuden EU-vaikuttamisen tiimiä\, joka toimii Helsingissä ja Brysselissä. Jussilla on pitkä kokemus EU:n digitalisaatiosääntelystä ja vaikuttamisesta Brysselissä\, sekä suoraan että järjestöjen kautta. Vaikuttamisen tavoitteena on hyvät olosuhteet kestävälle ja elinvoimaiselle teollisuudelle. Jussin suosikkeja Brysselissä ovat St Gillesin kaupunginosa\, lambic-oluet ja ranskalaiset perunat. \n\n\n\n\n  \n\n\n\n\n\nMikko Jalkanen\nasianajaja\, varatuomari\, Lukander Ruohola HTO Oy \nMikko Jalkanen toimii Asianajotoimisto Lukander Ruohola HTO Oy:n osakkaana\, toimitusjohtajana sekä IT- ja teknologiajuridiikan liiketoiminta-alueiden vetäjänä. Mikko on toiminut asianajotehtävissä noin 18 vuotta ja osallistunut yritys- ja sopimusoikeuden lisäksi laaja-alaisesti erilaisten teknologialiitännäisten toimijoiden\, startup -yritysten ja innovaatioiden ympärille kehittyneiden yritysten oikeudelliseen avustamiseen. Mikko toimii myös Kuopion alueen kauppakamarin kasvuvaliokunnan puheenjohtajana. Mikko on luonnollisesti Turun yliopiston oikeustieteellisen tiedekunnan kasvatti. \n\n\n\n\n\n\n\n\n\nAura Salla\nkansanedustaja \nAura Salla on Kokoomuksen kansanedustaja\, EU-politiikkaan erikoistunut valtiotieteiden tohtori ja suuren valiokunnan jäsen. Aiemmin hän on toiminut mm. Jean-Claude Junckerin erityisneuvonantajatiimin ulkopolitiikan neuvonantajana sekä Brysselissä Metan EU-asioista vastaavana yhteiskuntasuhdejohtajana. \n\n\n\n\n\nTunteeko yrityksesi data actin vaikutukset? \nVuonna 2025 voimaan tuleva Data Act on osa Euroopan unionin uutta datastrategiaa\, jonka tavoitteena on edistää oikeudenmukaista datan saatavuutta ja käyttöä. Datasäädös pyrkii helpottamaan datan liikkumista vapaasti EU:ssa sekä antamaan yksityishenkilöille ja yrityksille paremmat mahdollisuudet hallita dataansa ja se lisää kuluttajien vaikutusmahdollisuuksia verkkoon liitettyjen tuotteiden tuottamaan dataan. \nSäännös vaikuttaa laajasti kaikkiin verkkoon liitettyjen tuotteiden ja palveluiden parissa toimiviin yrityksiin ja myös yritysten totuttuun tapaan suojata liikesalaisuuksia. Se asettaa velvoitteita datan haltijoille ja laitevalmistajille\, joiden tulee jatkossa sallia tuotteiden ja palveluiden käyttäjille pääsy laitteiden ja palveluiden dataan sekä mahdollisuus hyödyntää sitä. Data Act tulee vaikuttamaan merkittävästi kaikkien digitaalisia tuotteita ja palveluita hyödyntävien yritysten toimintaan ja velvoitteiden lisäksi myöntämään niille oikeuksia myös ulkopuoliseen dataan. \nIlmoittaudu tilaisuuteen tästä
URL:https://wtc-turku.fi/event/lounasseminaari-eun-uuden-digisaantelyn-vaikutus-yrityksiin/
ATTACH;FMTTYPE=image/png:https://wtc-turku.fi/wp-content/uploads/2024/04/LR-Seminaari.png
END:VEVENT
END:VCALENDAR