BEGIN:VCALENDAR
VERSION:2.0
PRODID:-//WTC Turku - ECPv6.15.20//NONSGML v1.0//EN
CALSCALE:GREGORIAN
METHOD:PUBLISH
X-WR-CALNAME:WTC Turku
X-ORIGINAL-URL:https://wtc-turku.fi
X-WR-CALDESC:Tapahtumat WTC Turku
REFRESH-INTERVAL;VALUE=DURATION:PT1H
X-Robots-Tag:noindex
X-PUBLISHED-TTL:PT1H
BEGIN:VTIMEZONE
TZID:Europe/Helsinki
BEGIN:DAYLIGHT
TZOFFSETFROM:+0200
TZOFFSETTO:+0300
TZNAME:EEST
DTSTART:20230326T010000
END:DAYLIGHT
BEGIN:STANDARD
TZOFFSETFROM:+0300
TZOFFSETTO:+0200
TZNAME:EET
DTSTART:20231029T010000
END:STANDARD
BEGIN:DAYLIGHT
TZOFFSETFROM:+0200
TZOFFSETTO:+0300
TZNAME:EEST
DTSTART:20240331T010000
END:DAYLIGHT
BEGIN:STANDARD
TZOFFSETFROM:+0300
TZOFFSETTO:+0200
TZNAME:EET
DTSTART:20241027T010000
END:STANDARD
BEGIN:DAYLIGHT
TZOFFSETFROM:+0200
TZOFFSETTO:+0300
TZNAME:EEST
DTSTART:20250330T010000
END:DAYLIGHT
BEGIN:STANDARD
TZOFFSETFROM:+0300
TZOFFSETTO:+0200
TZNAME:EET
DTSTART:20251026T010000
END:STANDARD
END:VTIMEZONE
BEGIN:VEVENT
DTSTART;TZID=Europe/Helsinki:20240528T110000
DTEND;TZID=Europe/Helsinki:20240528T130000
DTSTAMP:20260421T164855
CREATED:20240326T122210Z
LAST-MODIFIED:20240326T122210Z
UID:6192-1716894000-1716901200@wtc-turku.fi
SUMMARY:WTC Turku Klubitapaaminen
DESCRIPTION:Toukokuun klubitapaaminen\, vain klubin jäsenille – ilmoittaudu mukaan tästä.
URL:https://wtc-turku.fi/event/wtc-turku-klubitapaaminen-2/
LOCATION:Tiedepuiston alue Kupittaa
ATTACH;FMTTYPE=image/png:https://wtc-turku.fi/wp-content/uploads/2024/03/WTC-Turku-Klubi-toukokuu.png
END:VEVENT
END:VCALENDAR