BEGIN:VCALENDAR
VERSION:2.0
PRODID:-//WTC Turku - ECPv6.15.20//NONSGML v1.0//EN
CALSCALE:GREGORIAN
METHOD:PUBLISH
X-WR-CALNAME:WTC Turku
X-ORIGINAL-URL:https://wtc-turku.fi
X-WR-CALDESC:Tapahtumat WTC Turku
REFRESH-INTERVAL;VALUE=DURATION:PT1H
X-Robots-Tag:noindex
X-PUBLISHED-TTL:PT1H
BEGIN:VTIMEZONE
TZID:Europe/Helsinki
BEGIN:DAYLIGHT
TZOFFSETFROM:+0200
TZOFFSETTO:+0300
TZNAME:EEST
DTSTART:20230326T010000
END:DAYLIGHT
BEGIN:STANDARD
TZOFFSETFROM:+0300
TZOFFSETTO:+0200
TZNAME:EET
DTSTART:20231029T010000
END:STANDARD
BEGIN:DAYLIGHT
TZOFFSETFROM:+0200
TZOFFSETTO:+0300
TZNAME:EEST
DTSTART:20240331T010000
END:DAYLIGHT
BEGIN:STANDARD
TZOFFSETFROM:+0300
TZOFFSETTO:+0200
TZNAME:EET
DTSTART:20241027T010000
END:STANDARD
BEGIN:DAYLIGHT
TZOFFSETFROM:+0200
TZOFFSETTO:+0300
TZNAME:EEST
DTSTART:20250330T010000
END:DAYLIGHT
BEGIN:STANDARD
TZOFFSETFROM:+0300
TZOFFSETTO:+0200
TZNAME:EET
DTSTART:20251026T010000
END:STANDARD
END:VTIMEZONE
BEGIN:VEVENT
DTSTART;TZID=Europe/Helsinki:20240605T140000
DTEND;TZID=Europe/Helsinki:20240605T153000
DTSTAMP:20260421T164856
CREATED:20240325T073834Z
LAST-MODIFIED:20240325T073834Z
UID:6158-1717596000-1717601400@wtc-turku.fi
SUMMARY:Kansainvälisen kaupan juridiikkaa
DESCRIPTION:Iltapäivän tilaisuudessa käsittelemme sopimusehtoja ja sopimusoikeutta kansainvälisessä liiketoiminnassa.  \nAsiantuntijapuheenvuorot tarjoaa WTC Turku Partneri Lukander Ruohola HTO. \nMITÄ: Kansainvälisen kaupan juridiikkaa \nMISSÄ: Manu 1-2\, Biocity\, Tykistökatu 6\, 20520 Turku \nMILLOIN: keskiviikkona 5.6.2024 klo 14-15.30 \nTilaisuus on maksuton ja kaikille avoin\, mutta vaatii ennakkoilmoittautumisen tästä linkistä. \nTapahtumassa kahvitarjoilu.
URL:https://wtc-turku.fi/event/kansainvalisen-kaupan-juridiikkaa/
LOCATION:Manu 1-2\, Biocity\, Tykistökatu 6\, Turku\, 20520\, Suomi
ATTACH;FMTTYPE=image/jpeg:https://wtc-turku.fi/wp-content/uploads/2024/03/KV-Kaupan-juridiikkaa.jpg
END:VEVENT
END:VCALENDAR