BEGIN:VCALENDAR
VERSION:2.0
PRODID:-//WTC Turku - ECPv6.15.20//NONSGML v1.0//EN
CALSCALE:GREGORIAN
METHOD:PUBLISH
X-WR-CALNAME:WTC Turku
X-ORIGINAL-URL:https://wtc-turku.fi
X-WR-CALDESC:Tapahtumat WTC Turku
REFRESH-INTERVAL;VALUE=DURATION:PT1H
X-Robots-Tag:noindex
X-PUBLISHED-TTL:PT1H
BEGIN:VTIMEZONE
TZID:Europe/Helsinki
BEGIN:DAYLIGHT
TZOFFSETFROM:+0200
TZOFFSETTO:+0300
TZNAME:EEST
DTSTART:20190331T010000
END:DAYLIGHT
BEGIN:STANDARD
TZOFFSETFROM:+0300
TZOFFSETTO:+0200
TZNAME:EET
DTSTART:20191027T010000
END:STANDARD
BEGIN:DAYLIGHT
TZOFFSETFROM:+0200
TZOFFSETTO:+0300
TZNAME:EEST
DTSTART:20200329T010000
END:DAYLIGHT
BEGIN:STANDARD
TZOFFSETFROM:+0300
TZOFFSETTO:+0200
TZNAME:EET
DTSTART:20201025T010000
END:STANDARD
BEGIN:DAYLIGHT
TZOFFSETFROM:+0200
TZOFFSETTO:+0300
TZNAME:EEST
DTSTART:20210328T010000
END:DAYLIGHT
BEGIN:STANDARD
TZOFFSETFROM:+0300
TZOFFSETTO:+0200
TZNAME:EET
DTSTART:20211031T010000
END:STANDARD
END:VTIMEZONE
BEGIN:VEVENT
DTSTART;TZID=Europe/Helsinki:20200908T100000
DTEND;TZID=Europe/Helsinki:20200908T150000
DTSTAMP:20260419T152950
CREATED:20200813T111105Z
LAST-MODIFIED:20200813T111105Z
UID:2118-1599559200-1599577200@wtc-turku.fi
SUMMARY:Cooperation Opportunities for the  Polish-Finnish ICT Sector
DESCRIPTION:Three ICT clusters \n\nInterizon (Gdansk\, Poland)\nITCorner (Wroclaw\, Poland) and \n\nTurku Awakens (Turku\, Finland)\n\njoined forces and formed an Alliance. Together we present our expertise and seek new business opportunities. \nIn the first event we introduce our clusters and Digitalization / E-commerce success case from each cluster\, followed by one-to-one online meetings.\nJoin us to hear about the latest projects our companies are working on and find opportunities for yourself! Participation is free of charge and open to all related companies. \nRegister to the event
URL:https://wtc-turku.fi/event/cooperation-opportunities-for-the-polish-finnish-ict-sector/
ATTACH;FMTTYPE=:
END:VEVENT
END:VCALENDAR