BEGIN:VCALENDAR
VERSION:2.0
PRODID:-//WTC Turku - ECPv6.15.20//NONSGML v1.0//EN
CALSCALE:GREGORIAN
METHOD:PUBLISH
X-WR-CALNAME:WTC Turku
X-ORIGINAL-URL:https://wtc-turku.fi
X-WR-CALDESC:Tapahtumat WTC Turku
REFRESH-INTERVAL;VALUE=DURATION:PT1H
X-Robots-Tag:noindex
X-PUBLISHED-TTL:PT1H
BEGIN:VTIMEZONE
TZID:Europe/Helsinki
BEGIN:DAYLIGHT
TZOFFSETFROM:+0200
TZOFFSETTO:+0300
TZNAME:EEST
DTSTART:20210328T010000
END:DAYLIGHT
BEGIN:STANDARD
TZOFFSETFROM:+0300
TZOFFSETTO:+0200
TZNAME:EET
DTSTART:20211031T010000
END:STANDARD
BEGIN:DAYLIGHT
TZOFFSETFROM:+0200
TZOFFSETTO:+0300
TZNAME:EEST
DTSTART:20220327T010000
END:DAYLIGHT
BEGIN:STANDARD
TZOFFSETFROM:+0300
TZOFFSETTO:+0200
TZNAME:EET
DTSTART:20221030T010000
END:STANDARD
BEGIN:DAYLIGHT
TZOFFSETFROM:+0200
TZOFFSETTO:+0300
TZNAME:EEST
DTSTART:20230326T010000
END:DAYLIGHT
BEGIN:STANDARD
TZOFFSETFROM:+0300
TZOFFSETTO:+0200
TZNAME:EET
DTSTART:20231029T010000
END:STANDARD
END:VTIMEZONE
BEGIN:VEVENT
DTSTART;TZID=Europe/Helsinki:20220818T100000
DTEND;TZID=Europe/Helsinki:20220818T104500
DTSTAMP:20260422T234659
CREATED:20220622T112956Z
LAST-MODIFIED:20220622T112956Z
UID:4456-1660816800-1660819500@wtc-turku.fi
SUMMARY:PK-yrittäjä: tule mukaan ratkaisemaan aitoja haasteita ja kehittämään liiketoimintaasi!
DESCRIPTION:Urban Tech -hanke etsii ratkaisuja isojen yritysten ja organisaatioiden haasteisiin\, jotka liittyvät terveydenhuollon\, vihreän teknologian tai älykkäiden kaupunkiratkaisujen teemoihin. Tavoitteena on synnyttää uusia innovatiivisia tuote- ja palveluinnovaatioita\, joista lupaavimmille tarjolla on myös pilotointirahoitusta. \nUrban Techissä pk-yritykset pääsevät kehittämään ratkaisuja haasteisiin\, joita on kerätty yrityksistä sekä julkisista organisaatioista ympäri Euroopan alkuvuoden 2022 ajan. Kiinnostuksensa voi ilmaista jättämällä ratkaisuideoita eri haasteisiin 14.9.2022 asti. Hanke on tarkoitettu eurooppalaisille pk-yrityksille\, ja idean toteuttamiseen on mahdollista saada tueksi mentorointia sekä pilotointitukea jopa yli 50 000 euroa. \nHankkeen projektipäällikkö Sofia Pihlava Turku Business Regionilta kannustaa yrityksiä hakemaan mukaan matalalla kynnyksellä. \n”Urban Techissä pääsette kehittämään ratkaisuja\, joille on aito ja ajankohtainen tarve! Tämä on myös upea mahdollisuus pyrkiä kansainvälistymään\, sillä haasteita on Suomen ulkopuoleltakin. Me Turku Business Regionilla tuemme mukaan päässeitä yrityksiä etenemään idean kanssa. Hakeminen on tehty todella helpoksi\, joten mukaan vain”\, Pihlava innostaa. \nTutustu haasteisiin & hae mukaan! Haasteet julkaistaan 22.6.2022. \nKysyttävää\, haluatko kuulla lisää? \nLisätietoja ohjelmasta sekä hakemisesta saat Teamsin välityksellä järjestettävässä infotilaisuudessa to 18.8 klo 10-10:45. Ilmoittaudu mukaan tilaisuuteen!
URL:https://wtc-turku.fi/event/pk-yrittaja-tule-mukaan-ratkaisemaan-aitoja-haasteita-ja-kehittamaan-liiketoimintaasi/
LOCATION:Online
ATTACH;FMTTYPE=image/png:https://wtc-turku.fi/wp-content/uploads/2022/06/Urban-Tech.png
END:VEVENT
BEGIN:VEVENT
DTSTART;TZID=Europe/Helsinki:20220822T140000
DTEND;TZID=Europe/Helsinki:20220822T160000
DTSTAMP:20260422T234659
CREATED:20220817T112244Z
LAST-MODIFIED:20220817T113309Z
UID:4734-1661176800-1661184000@wtc-turku.fi
SUMMARY:International Scaler eCommerce -tapaaminen
DESCRIPTION:Onko yrityksesi valmis kansainvälisille markkinoille tai haetko avauksia uusille markkinoille? \nWTC Turku herättää henkiin yhteysvientihankkeet 2020-luvun International Scaler -toiminnalla. Uskomme siihen\, että yhdessä olemme vahvempia ja voimme saavuttaa enemmän. Synergia on päivän sana ja sitä lähdemme hakemaan yritysten välille\, jotta yritykset voisviat menestyksekkäästi tehdä yhteisvientiä. \nInternational Scaler –ohjelman tavoitteena on auttaa yrityksiä löytämään ratkaisuja vientiin liittyvissä kysymyksissä ja rakentaa yritysten välille luottamuksen ilmapiiriä. Ennen varsinaista vientivaihetta autamme yrityksiä löytämään synergian\, yhteiset tavoitteet ja strategian valmistamo-ohjelman avulla. \nKenelle? \n\nVientiä suunnitteleva tai käynnistävä yritys\nVientiyritys\, joka haluaa laajentaa markkinaa\n10 – 50 t € käyttöpääomaa ja riittävä henkilöresurssi vientihankkeen toteuttamiseen\nHakee synergiaa muiden yritysten kanssa vientihankkeen aloittamiseen ja toteuttamiseen\n\n\nMiksi osallistua? \n\nYhteishankkeet on tehokas tapa viennin aloittamiseen\, laajentamiseen ja ylläpitämiseen\nVerkoston tuoma synergiaetuja: kokemusten ja osaamisen jakaminen\, myynnin nopeuttaminen\, riskien minimointi\, kustannustehokkuus\nAsiantuntijoiden tukea kansainvälistymiseen ja uuden markkinan avaamiseen\n\n\nTapaamme nyt niiden yritysten kesken\, joiden painopisteenä on eCommerce. Mietitään mahdollisia yhteisiä messuosallistumisia\, markkinatutkimuksia yms\, osallistujat itse päättävät mihin suuntaan yhteistyötä lähdetään kehittämään. Tarpeen mukaan paikalle kutsutaan asiantuntijoita vastaamaan kysymyksiin ja kertomaan lisää tarvittavista aiheista. \nOsallistuminen on maksutonta\, mutta ilmoittaudu mukaan sähköpostilla: info@wtc-turku.fi
URL:https://wtc-turku.fi/event/international-scaler-ecommerce-tapaaminen/
LOCATION:Turku Science Park\, Joukahaisenkatu 3 A\, 4. krs.\, Turku\, 20520\, Suomi
ATTACH;FMTTYPE=image/jpeg:https://wtc-turku.fi/wp-content/uploads/2022/08/eCommerce.jpg
END:VEVENT
BEGIN:VEVENT
DTSTART;VALUE=DATE:20220824
DTEND;VALUE=DATE:20220827
DTSTAMP:20260422T234659
CREATED:20220620T081926Z
LAST-MODIFIED:20220620T081926Z
UID:4438-1661299200-1661558399@wtc-turku.fi
SUMMARY:Eurooppafoorumi
DESCRIPTION:Tapahtuma\nAvointa keskustelua Suomen ja Euroopan tulevaisuudesta käydään tänäkin vuonna Eurooppa-foorumissa 24.–26. elokuuta Turussa.\nTämän vuoden Eurooppa-foorumin teemana on Suomen ja EU:n asema osana muuttuvaa kansainvälistä järjestystä. Puhujiksi saapuvat muun muassa pääministeri Sanna Marin\, valtiovarainministeri Annika Saarikko\, ulkoministeri Pekka Haavisto\, puoluejohtajat Petteri Orpo ja Riikka Purra\, opetusministeri Li Andersson\, työministeri Tuula Haatainen ja Sitran yliasiamies Jyrki Katainen. \nMitä?\nEurooppa-foorumi edistää avointa\, tutkittuun tietoon perustuvaa keskustelua kansalaisten ja päättäjien kesken. \nEurooppa-foorumi on alusta yhteiskunnalliselle keskustelulle\, jossa pohditaan Suomen tämän hetkistä ja tulevaa roolia Euroopassa ja Euroopan unionissa pidemmän aikavälin perspektiivistä. Eurooppa-foorumissa tapaavat ihmiset elämän eri osa-alueilta: eri näkemyksiä edustavat poliittiset päättäjät\, kansalaisjärjestöt\, elinkeinoelämä\, työmarkkinajärjestöt\, asiantuntijat ja kansalaiset. \nTapahtuman seminaareissa\, paneelikeskusteluissa\, kyselytunneilla ja kansalaiskeskusteluissa käydään rakentavaa vuoropuhelua Euroopasta ja Euroopan unionin merkityksestä ja kehityksestä. Kohtaamiset Eurooppa-foorumissa kaventavat kuilua päätöksenteon ja kansalaisten arjen välillä. \nMiksi?\nEnemmistö suomalaisista pitää Euroopan unionin jäsenyyttä hyvänä asiana ja katsoo\, että Suomi on hyötynyt jäsenyydestä. EU-maiden välinen yhteistyö\, unionin myönteinen vaikutus talouskasvuun ja EU:n luomat uudet työmahdollisuudet saavat suomalaiset pitämään ovet auki Eurooppaan. Toisaalta lähes kolmannes suomalaisista suhtautuu epäilevästi EU:n tulevaisuuteen. \nEurooppa ja Euroopan unioni ovat muutosten kourissa. Muutokset ovat lisänneet painetta kehittää eurooppalaista yhteistyötä monilla aloilla. Tämä nostattaa kysymyksen\, mitä EU on tulevaisuudessa? \nLähitulevaisuudessa tarvitaan laajaa ja moniarvoista\, tulevaisuusorientoitunutta kansalaiskeskustelua Suomen paikasta Euroopassa ja Euroopan unionissa. Keskustelun käymiseksi tarvitaan avointa ja reipasta mieltä\, rakentavan kriittistä asennetta sekä valmiutta tarjota uusia näköaloja Euroopan ja Suomen kehittämiseksi. Tämä edellyttää oikeaa tietoa tilanteista ja ratkaisuvaihtoehdoista. Tarve keskustelulle ei ole vain hetkellinen\, se on pysyvä. Esimerkiksi talous-\, lainsäädäntö-\, maahanmuutto- ja ympäristökysymykset ovat sellaisia\, joiden ratkaisemisessa Euroopan unionilla on Suomen kannalta huomattava rooli. \nSuomesta on puuttunut alusta kansalaisten\, päättäjien sekä yhteiskunnan eri toimijoiden väliselle yhteiselle EU-keskustelulle. Eurooppa-foorumi vastaa tapeeseen: se on paikka keskustella Suomen ja Euroopan tulevaisuudesta.
URL:https://wtc-turku.fi/event/eurooppafoorumi/
LOCATION:Turku
ATTACH;FMTTYPE=image/jpeg:https://wtc-turku.fi/wp-content/uploads/2022/06/Eurooppafoorumi.jpg
END:VEVENT
BEGIN:VEVENT
DTSTART;VALUE=DATE:20220824
DTEND;VALUE=DATE:20220826
DTSTAMP:20260422T234659
CREATED:20220620T083243Z
LAST-MODIFIED:20220620T083243Z
UID:4451-1661299200-1661471999@wtc-turku.fi
SUMMARY:SHIFT Business Festival
DESCRIPTION:SHIFT IS BUILT TO BRING PEOPLE AND IDEAS TOGETHER\n\n\nA FESTIVAL FOR PEOPLE AND INNOVATIONS\, NOT A CONFERENCE!\nSHIFT is built to bring change-oriented people and businesses together to network\, learn\, and get inspired.\nSHIFT calls you to define what the future brings for your business\, but also to re-think how your business can impact the future. \nSHIFT Business Festival is the highlight of our year\, and exactly what it says – a two-day inspirational and fun festival with insightful business content. \nPARTNERSHIPS & NETWORK\nSHIFT speakers and partners are ready to co-create with you. We stimulate you to use your newly achieved knowledge and internalize it before you leave our festival grounds. Together with other festival attendees\, you shape the future of business\, and how business shapes the future. \n\nWHY ATTEND?\n\n\nIF YOU ARE AN INDUSTRY LEADER\nWe bring you an insightful program and a network of the freshest technology providers and leading business players who have their eyes on the future. Bring your decision-makers and R&D team to get insights on how to see beyond the next five years of technological and business development. \nIF YOU ARE A TECH INNOVATOR\nWe provide you with  the knowledge that helps you to lead tomorrow by defining the future rather than waiting for it to happen. Besides the networking opportunities\, SHIFT is a place to rub shoulders with the world’s brightest minds. Whether you are a startup entrepreneur or already an established technology provider\, SHIFT is a platform to re-think your business.
URL:https://wtc-turku.fi/event/shift-business-festival/
LOCATION:Turku
ATTACH;FMTTYPE=image/jpeg:https://wtc-turku.fi/wp-content/uploads/2022/06/SHIFT.jpg
END:VEVENT
BEGIN:VEVENT
DTSTART;TZID=Europe/Helsinki:20220824T083000
DTEND;TZID=Europe/Helsinki:20220824T101500
DTSTAMP:20260422T234659
CREATED:20220628T065747Z
LAST-MODIFIED:20220628T065850Z
UID:4489-1661329800-1661336100@wtc-turku.fi
SUMMARY:Leadership Breakfast: Digijohtajuuden askelmerkit liiketoiminnassa
DESCRIPTION:Tervetuloa starttaamaan aamu SHIFT Business Festival-sivutapahtumaan keskiviikkona 24.8. klo 8:30–10:15 Kakolanmäelle\, jossa aiheena on johtajuus digitalisoituvassa bisnesmaailmassa. \nTurun Kauppakamari\, yhteistyössä Veritaksen kanssa järjestää aamukahvitilaisuuden\, jossa kuulet näkökulmia nykypäivän digijohtajuuteen sekä rajat ylittävän virtuaalisen tiimin haasteiden ratkomiseen. \nDigijohtamisen uusi normaali\, Carl Haglund\, toimitusjohtaja\, Veritas \nDigitaalinen transformaatio Matkahuollossa\, Janne Jakola\, toimitusjohtaja\, Matkahuolto \nChoosing Leaders for a Growing Global Team\, Borislav Sinik Partner Director Nordics\, Globalization Partners \n10:15 Tilaisuuden päätös \nHuomioithan\, että viimeinen puheenvuoro on englanniksi. \nTilaisuus järjestetään Kakolan päärakennuksen Kakolan salissa\, funikulaarin yläaseman välittömässä läheisyydessä. Huomioithan että mäellä on rajatusti pysälöintipaikkoja. Tila on lyhyen kävelymatkan päässä Hotel Kakolasta\, jossa vuoden 2022 Shift-päätapahtuma järjestetään. \nTilaisuus järjestetään yhteistyössä Veritaksen kanssa. \nTervetuloa mukaan! \nIlmoittaudu mukaan täältä: Leadership Breakfast: Digijohtajuuden askelmerkit liiketoiminnassa – Turun Kauppakamari
URL:https://wtc-turku.fi/event/leadership-breakfast-digijohtajuuden-askelmerkit-liiketoiminnassa/
LOCATION:Turku
ATTACH;FMTTYPE=image/jpeg:https://wtc-turku.fi/wp-content/uploads/2022/06/Digijohtajuus.jpeg
END:VEVENT
BEGIN:VEVENT
DTSTART;TZID=Europe/Helsinki:20220825T073000
DTEND;TZID=Europe/Helsinki:20220825T083000
DTSTAMP:20260422T234659
CREATED:20220726T081744Z
LAST-MODIFIED:20220726T081744Z
UID:4574-1661412600-1661416200@wtc-turku.fi
SUMMARY:Ranskalainen aamiaistilaisuus
DESCRIPTION:Ranskalainen aamiaistilaisuus Eurooppafoorumin yhteydessä. Puhujana Patricia Pouliquen Ranskan suurlähetystöstä. Aiheena Ranskan presidenttikauden tulokset.
URL:https://wtc-turku.fi/event/ranskalainen-aamiaistilaisuus/
ATTACH;FMTTYPE=image/jpeg:https://wtc-turku.fi/wp-content/uploads/2022/07/csm_CCFF_Europe_Forum_2022-3_46968c5d65.jpg
END:VEVENT
BEGIN:VEVENT
DTSTART;TZID=Europe/Helsinki:20220831T083000
DTEND;TZID=Europe/Helsinki:20220831T100000
DTSTAMP:20260422T234659
CREATED:20220707T115109Z
LAST-MODIFIED:20220802T080803Z
UID:4531-1661934600-1661940000@wtc-turku.fi
SUMMARY:WTC – EEN Aamukahvit: Saksa
DESCRIPTION:World Trade Center Turku ja Enterprise Europe Network tarjoavat syksyllä maksuttomia aamukahvitilaisuuksia\, joissa annetaan kattava katsaus eri maiden liiketoimintaympäristöihin. Tapahtumat on tarkoitettu kaikille\, jotka suunnittelevat liiketoiminnan aloittamista tai kasvattamista ko. markkinoilla. Lyhyessä ja ytimekkäässä tilaisuudessa on mahdollisuus verkostoitua ja tarjolla on myös pientä aamiaista. \nSyksyn aamukahvitilaisuudet aloitetaan Saksan markkinakatsauksella 31.8.2022. Tapahtuma on tarkoitettu kaikille\, jotka suunnittelevat liiketoiminnan aloittamista tai kasvattamista Saksassa.  \nPuhujina: \nLotta Westerlund\, Saksalais-Suomalainen Kauppakamari \nTimo Calonius\, Federal Association for Economic Development and Foreign Trade (BWA) \nTomi Virtanen\, Doerz \nTilaisuus on maksuton\, mutta vaati ilmoittautumisen: https://www.lyyti.in/WTC__EEN_Aamukahvit_Saksa_1645
URL:https://wtc-turku.fi/event/wtc-een-aamukahvit-saksa/
LOCATION:Vierailukeskus Joki\, Lemminkäisenkatu 12B\, Turku\, Suomi
ATTACH;FMTTYPE=image/jpeg:https://wtc-turku.fi/wp-content/uploads/2022/07/WTC-EEN-Aamukahvit.jpg
END:VEVENT
END:VCALENDAR