BEGIN:VCALENDAR
VERSION:2.0
PRODID:-//WTC Turku - ECPv6.15.20//NONSGML v1.0//EN
CALSCALE:GREGORIAN
METHOD:PUBLISH
X-ORIGINAL-URL:https://wtc-turku.fi
X-WR-CALDESC:Tapahtumat WTC Turku
REFRESH-INTERVAL;VALUE=DURATION:PT1H
X-Robots-Tag:noindex
X-PUBLISHED-TTL:PT1H
BEGIN:VTIMEZONE
TZID:Europe/Helsinki
BEGIN:DAYLIGHT
TZOFFSETFROM:+0200
TZOFFSETTO:+0300
TZNAME:EEST
DTSTART:20220327T010000
END:DAYLIGHT
BEGIN:STANDARD
TZOFFSETFROM:+0300
TZOFFSETTO:+0200
TZNAME:EET
DTSTART:20221030T010000
END:STANDARD
BEGIN:DAYLIGHT
TZOFFSETFROM:+0200
TZOFFSETTO:+0300
TZNAME:EEST
DTSTART:20230326T010000
END:DAYLIGHT
BEGIN:STANDARD
TZOFFSETFROM:+0300
TZOFFSETTO:+0200
TZNAME:EET
DTSTART:20231029T010000
END:STANDARD
BEGIN:DAYLIGHT
TZOFFSETFROM:+0200
TZOFFSETTO:+0300
TZNAME:EEST
DTSTART:20240331T010000
END:DAYLIGHT
BEGIN:STANDARD
TZOFFSETFROM:+0300
TZOFFSETTO:+0200
TZNAME:EET
DTSTART:20241027T010000
END:STANDARD
END:VTIMEZONE
BEGIN:VEVENT
DTSTART;TZID=Europe/Helsinki:20230118T080000
DTEND;TZID=Europe/Helsinki:20230927T170000
DTSTAMP:20260424T001519
CREATED:20230118T072355Z
LAST-MODIFIED:20230622T064703Z
UID:5008-1674028800-1695834000@wtc-turku.fi
SUMMARY:Kirjakerho
DESCRIPTION:Paras kirjakerho aloitti tammikuussa 2023. Yhteistyössä WTC Turun\, Turku Science Parkin ja Vierailu- ja innovaatiokeskus Joen kanssa järjestetty 2022 Nordic Business Forum livestriimauksen jälkeen ylpeänä esittelimme uuden tavan oppia\, verkostoitua ja viihtyä vuonna 2023: Paras kirjakerho. \nKirjakerho tapaa joka toinen kuukausi keskustelemaan yhdessä valitusta kirjasta. Suurin osa valituista kirjoista on saatavilla vain englanniksi\, ja keskustelut käydään myös englanniksi. \nIlmoittaudu mukaan nyt – osallistuminen on ilmaista\, mutta kirjat jokainen hankkii itse. Kirjakerhon tapaamisajat ja paikat ilmoitetaan osallistujille myöhemmin. \nIlmoittaudu mukaan klikkaamalla tästä.
URL:https://wtc-turku.fi/event/kirjakerho/
ATTACH;FMTTYPE=image/jpeg:https://wtc-turku.fi/wp-content/uploads/2023/01/Book-Club.jpg
END:VEVENT
BEGIN:VEVENT
DTSTART;TZID=Europe/Helsinki:20230505T103000
DTEND;TZID=Europe/Helsinki:20230505T120000
DTSTAMP:20260424T001519
CREATED:20230418T105019Z
LAST-MODIFIED:20230418T110537Z
UID:5364-1683282600-1683288000@wtc-turku.fi
SUMMARY:Opportunities in Africa's Business Landscape
DESCRIPTION:This event is held in English. \nOpportunities and challenges in East Africa\, how to get started there and what’s happening with the start-up scene. \nWe start with the book launch of the Diary of an African Hub Manager by Jumanne Mtambalike. \nNext\, the panel discussion focuses on experience\, knowledge\, funding and passion for the Africa’s business landscape. Our panel is moderated by Turku Science Park’s Timo Huttunen\, and their knowledge and expertise in the panel will be sharing Markku Liukkonen\, Juha Miettinen and Jumanne Mtambalike. \nThe event is open for everyone and free of charge. Advance registration required\, please click here.
URL:https://wtc-turku.fi/event/opportunities-in-africas-business-landscape/
LOCATION:SparkUp\, Tykistökatu 4 B\, Turku\, 20520\, Suomi
ATTACH;FMTTYPE=image/jpeg:https://wtc-turku.fi/wp-content/uploads/2023/04/Africa-Business-Landscape.jpg
END:VEVENT
BEGIN:VEVENT
DTSTART;TZID=Europe/Helsinki:20230515T103000
DTEND;TZID=Europe/Helsinki:20230515T130000
DTSTAMP:20260424T001519
CREATED:20230426T061646Z
LAST-MODIFIED:20230426T061646Z
UID:5382-1684146600-1684155600@wtc-turku.fi
SUMMARY:AHK Business Match -tapahtuma Turussa 15.5.2023
DESCRIPTION:Avaa ovet Saksan markkinoille\, laajenna verkostoasi ja kasvata bisnestäsi! \nAHK Business Match järjestetään 15.5.2023 Turussa yhteistyössä WTC Turun\, Turku Business Regionin ja IHK Neubrandenburgin kanssa. Tapahtuma tuo yhteen saksalaiset ja suomalaiset yritykset\, innovaatiokeskukset ja tutkimuslaitokset eri toimialoilta. \nAHK Business Matchiin saapuu lähes 20 saksalaistoimijaa mm. meriteollisuus-\, kiinteistö-\, elintarvike-\, koulutus- sekä energiateollisuuden aloilta. Lisäksi mukana on tutkimus- ja innovaatiokeskuksia sekä markkinoinnin asiantuntijoita. \nSaksalaiset etsivät yhteyksiä suomalaisiin yrityksiin\, startup- ja innovaatiokeskuksiin sekä tutkimus- ja koulutuslaitoksiin ja ovat kiinnostuneita mm. maahantuonti-\, vienti- ja tutkimusyhteistyöstä. \nTapahtumaan ovat tervetulleita yritykset\, yliopistot ja oppilaitokset sekä mainittujen toimialojen sidosryhmät. \nIlmoittaudu mukaan: \nTurku: 15.5. klo 10.30–13.00 \nRekisteröidy tästä. \nTutustu saksalaisyrityksiin täällä. \nViimeinen ilmoittautumispäivä on 10.5. \nTapahtuma on maksuton ja sisältää liiketapaamiset\, lounaan sekä tapaamisiin liittyvän konsultaation ennen tapahtumaa\, sen aikana ja tapahtuman jälkeen. \nLisätietoja:Mikaela Jaanti \nSaksalais-Suomalainen Kauppakamari\, AHK Finnland \n050 555 5308 \nmikaela.jaanti@dfhk.fi \n 
URL:https://wtc-turku.fi/event/ahk-business-match-tapahtuma-turussa-15-5-2023/
LOCATION:Vierailukeskus Joki\, Lemminkäisenkatu 12B\, Turku\, Suomi
ATTACH;FMTTYPE=image/jpeg:https://wtc-turku.fi/wp-content/uploads/2023/04/AHK-Business-Match-Kuva.jpg
END:VEVENT
END:VCALENDAR