BEGIN:VCALENDAR
VERSION:2.0
PRODID:-//WTC Turku - ECPv6.15.20//NONSGML v1.0//EN
CALSCALE:GREGORIAN
METHOD:PUBLISH
X-WR-CALNAME:WTC Turku
X-ORIGINAL-URL:https://wtc-turku.fi
X-WR-CALDESC:Tapahtumat WTC Turku
REFRESH-INTERVAL;VALUE=DURATION:PT1H
X-Robots-Tag:noindex
X-PUBLISHED-TTL:PT1H
BEGIN:VTIMEZONE
TZID:Europe/Helsinki
BEGIN:DAYLIGHT
TZOFFSETFROM:+0200
TZOFFSETTO:+0300
TZNAME:EEST
DTSTART:20220327T010000
END:DAYLIGHT
BEGIN:STANDARD
TZOFFSETFROM:+0300
TZOFFSETTO:+0200
TZNAME:EET
DTSTART:20221030T010000
END:STANDARD
BEGIN:DAYLIGHT
TZOFFSETFROM:+0200
TZOFFSETTO:+0300
TZNAME:EEST
DTSTART:20230326T010000
END:DAYLIGHT
BEGIN:STANDARD
TZOFFSETFROM:+0300
TZOFFSETTO:+0200
TZNAME:EET
DTSTART:20231029T010000
END:STANDARD
BEGIN:DAYLIGHT
TZOFFSETFROM:+0200
TZOFFSETTO:+0300
TZNAME:EEST
DTSTART:20240331T010000
END:DAYLIGHT
BEGIN:STANDARD
TZOFFSETFROM:+0300
TZOFFSETTO:+0200
TZNAME:EET
DTSTART:20241027T010000
END:STANDARD
END:VTIMEZONE
BEGIN:VEVENT
DTSTART;TZID=Europe/Helsinki:20230118T080000
DTEND;TZID=Europe/Helsinki:20230927T170000
DTSTAMP:20260422T041322
CREATED:20230118T072355Z
LAST-MODIFIED:20230622T064703Z
UID:5008-1674028800-1695834000@wtc-turku.fi
SUMMARY:Kirjakerho
DESCRIPTION:Paras kirjakerho aloitti tammikuussa 2023. Yhteistyössä WTC Turun\, Turku Science Parkin ja Vierailu- ja innovaatiokeskus Joen kanssa järjestetty 2022 Nordic Business Forum livestriimauksen jälkeen ylpeänä esittelimme uuden tavan oppia\, verkostoitua ja viihtyä vuonna 2023: Paras kirjakerho. \nKirjakerho tapaa joka toinen kuukausi keskustelemaan yhdessä valitusta kirjasta. Suurin osa valituista kirjoista on saatavilla vain englanniksi\, ja keskustelut käydään myös englanniksi. \nIlmoittaudu mukaan nyt – osallistuminen on ilmaista\, mutta kirjat jokainen hankkii itse. Kirjakerhon tapaamisajat ja paikat ilmoitetaan osallistujille myöhemmin. \nIlmoittaudu mukaan klikkaamalla tästä.
URL:https://wtc-turku.fi/event/kirjakerho/
ATTACH;FMTTYPE=image/jpeg:https://wtc-turku.fi/wp-content/uploads/2023/01/Book-Club.jpg
END:VEVENT
BEGIN:VEVENT
DTSTART;VALUE=DATE:20230830
DTEND;VALUE=DATE:20230902
DTSTAMP:20260422T041322
CREATED:20230622T100328Z
LAST-MODIFIED:20230622T100328Z
UID:5464-1693353600-1693612799@wtc-turku.fi
SUMMARY:Eurooppafoorumi
DESCRIPTION:Eurooppa-foorumin vuoden teemana on Muuttuva Eurooppa. Foorumin tapahtumapaikkana toimivat Turun Taideakatemian ja konservatorion tilat osoitteessa Linnankatu 54–60\, Turku sekä virtuaalinen tapahtuma-alusta verkossa. Ohjelmaa on myös Turun Kauppatorilla. \nMitä? \nEurooppa-foorumi edistää avointa\, tutkittuun tietoon perustuvaa keskustelua kansalaisten ja päättäjien kesken. \nEurooppa-foorumi on alusta yhteiskunnalliselle keskustelulle\, jossa pohditaan Suomen tämän hetkistä ja tulevaa roolia Euroopassa ja Euroopan unionissa pidemmän aikavälin perspektiivistä. Eurooppa-foorumissa tapaavat ihmiset elämän eri osa-alueilta: eri näkemyksiä edustavat poliittiset päättäjät\, kansalaisjärjestöt\, elinkeinoelämä\, työmarkkinajärjestöt\, asiantuntijat ja kansalaiset. \nTapahtuman seminaareissa\, paneelikeskusteluissa\, kyselytunneilla ja kansalaiskeskusteluissa käydään rakentavaa vuoropuhelua Euroopasta ja Euroopan unionin merkityksestä ja kehityksestä. Kohtaamiset Eurooppa-foorumissa kaventavat kuilua päätöksenteon ja kansalaisten arjen välillä. \nMiksi? \nEnemmistö suomalaisista pitää Euroopan unionin jäsenyyttä hyvänä asiana ja katsoo\, että Suomi on hyötynyt jäsenyydestä. EU-maiden välinen yhteistyö\, unionin myönteinen vaikutus talouskasvuun ja EU:n luomat uudet työmahdollisuudet saavat suomalaiset pitämään ovet auki Eurooppaan. Toisaalta lähes kolmannes suomalaisista suhtautuu epäilevästi EU:n tulevaisuuteen. \nEurooppa ja Euroopan unioni ovat muutosten kourissa. Muutokset ovat lisänneet painetta kehittää eurooppalaista yhteistyötä monilla aloilla. Tämä nostattaa kysymyksen\, mitä EU on tulevaisuudessa? \nLähitulevaisuudessa tarvitaan laajaa ja moniarvoista\, tulevaisuusorientoitunutta kansalaiskeskustelua Suomen paikasta Euroopassa ja Euroopan unionissa. Keskustelun käymiseksi tarvitaan avointa ja reipasta mieltä\, rakentavan kriittistä asennetta sekä valmiutta tarjota uusia näköaloja Euroopan ja Suomen kehittämiseksi. Tämä edellyttää oikeaa tietoa tilanteista ja ratkaisuvaihtoehdoista. Tarve keskustelulle ei ole vain hetkellinen\, se on pysyvä. Esimerkiksi talous-\, lainsäädäntö-\, maahanmuutto- ja ympäristökysymykset ovat sellaisia\, joiden ratkaisemisessa Euroopan unionilla on Suomen kannalta huomattava rooli. \nSuomesta on puuttunut alusta kansalaisten\, päättäjien sekä yhteiskunnan eri toimijoiden väliselle yhteiselle EU-keskustelulle. Eurooppa-foorumi vastaa tapeeseen: se on paikka keskustella Suomen ja Euroopan tulevaisuudesta. \nLisätietoja ja ohjelma täällä.
URL:https://wtc-turku.fi/event/eurooppafoorumi-2/
ATTACH;FMTTYPE=image/jpeg:https://wtc-turku.fi/wp-content/uploads/2023/06/Eurooppafoorumi.jpg
END:VEVENT
BEGIN:VEVENT
DTSTART;TZID=Europe/Helsinki:20230913T100000
DTEND;TZID=Europe/Helsinki:20230913T111500
DTSTAMP:20260422T041322
CREATED:20230811T104111Z
LAST-MODIFIED:20230811T104927Z
UID:5486-1694599200-1694603700@wtc-turku.fi
SUMMARY:TEAM FINLAND TALKS: UKRAINA 2.0
DESCRIPTION:Ukrainan sota on aiheuttanut laajaa humanitaarista\, ympäristöön kohdistuvaa ja aineellista tuhoa. Tuen tarve on valtava. Ukraina pyrkii aloittamaan jälleenrakennuksen mahdollisimman nopeasti. Ukraina toivoo\, että ulkomaiset yritykset ja kumppanit osallistuvat yhteistyöhön. \nMITÄ ME VOIMME TEHDÄ?\nJälleenrakennushanke on valtava. Team Finland Talks -webinaarissa suomalainen yritys\, ukrainalaisyritys ja Team Finland Ukrainan työpisteen edustaja keskustelevat tarvittavista ratkaisuista seuraavissa kysymyksissä: \n\nEnergia ja rakennettu ympäristö\nTurvallisuuskysymykset\nInfrastruktuuri\nAsuminen\nLogistiikka\nMaa- ja metsätalous\n\nTapahtuman kieli on englanti. Lue lisää englanninkieliseltä tapahtumasivulta. \nTervetuloa! \nREBUILD UKRAINE -KONFERENSSI\nTeam Finland kutsuu yrityksiä\, jotka ovat halukkaita ja kykeneviä auttamaan\, osallistumaan ReBuild Ukraine -konferenssiin Varsovassa 14.-15.11.2023 verkostoitumaan ja käynnistämään yhteistyötä paremman ja turvallisemman Ukrainan rakentamiseksi. Ilmoittaudu konferenssiin 28.8. mennessä
URL:https://wtc-turku.fi/event/team-finland-talks-ukraina-2-0/
LOCATION:Online
ATTACH;FMTTYPE=image/jpeg:https://wtc-turku.fi/wp-content/uploads/2023/08/Team-Finland.jpeg.jpg
END:VEVENT
BEGIN:VEVENT
DTSTART;VALUE=DATE:20230925
DTEND;VALUE=DATE:20230928
DTSTAMP:20260422T041322
CREATED:20230622T072842Z
LAST-MODIFIED:20230919T092846Z
UID:5453-1695600000-1695859199@wtc-turku.fi
SUMMARY:Markkinatutkimusmatka Saksaan
DESCRIPTION:Tule mukaan markkinaselvitysmatkalle Mecklenburg-Etu-Pommeriin maanantaista keskiviikkoon 25.-27.9.2023 ja tutustu todellisiin merenkulun markkinajohtajiin! Matkaan sisältyy myös kiinnostavia vierailuja ja tutustumista toimintaympäristöön. Tapaat myös päättäjiä ja asiantuntjoita tutkimuslaitoksista ja yrityksistä sekä teillä on siten mahdollisuus ajatusten ja innovaatioiden vaihtoon. \nSen jälkeen on mahdollisuus osallistua saksalais-suomalaiseen yritysfoorumiin torstaina 28.9.2023 sekä edellisen illan Get-Togetheriin Rostockissa. Tämän vuoden teemana on ”Yritysten ja kriittisten infrastruktuurien kyberturvallisuus”\, yhtenä painopisteenä meriteollisuus. Asiantuntijaluentojen ja yritysesittelyjen lisäksi Business Forum tarjoaa osallistujille tilaa myös verkostoitumiseen ja tapaamisiin. \nMeriteollisuuden kohderyhmät ovat:\n• meri- ja offshore-teknologian (tuulienergia) alalla toimivat yritykset\n• laivanrakennus (telakat)\n• laivanrakennuksen toimittajat\, esim. propulsiomoottoreiden tai laivan potkureiden valmistajat\n• koneiden ja komponenttien valmistajat\n• meriteollisuuden palveluiden tarjoajat\n• yritykset\, jotka tarjoavat innovatiivisia tai kestäviä ratkaisuja\, esim. polttokenno- ja käyttötekniikka \nTavoittelemme suomalaisia alan yrityksiä\, jotka ovat kiinnostuneita laajentamaan liiketoimintaansa Saksaan. Ohjelma on englanniksi. \nOhjelma ja ilmoittautuminen:\nhttps://ahkfinnland.de/fi/saksaan-ja-maailmalle/vienninedistaemismatkat/meriteollisuus
URL:https://wtc-turku.fi/event/markkinatutkimusmatka-saksaan/
ATTACH;FMTTYPE=image/jpeg:https://wtc-turku.fi/wp-content/uploads/2023/06/Neptun-Werft_Thomas-Mandt-Februar-2021-012.jpg
END:VEVENT
BEGIN:VEVENT
DTSTART;VALUE=DATE:20230927
DTEND;VALUE=DATE:20230929
DTSTAMP:20260422T041322
CREATED:20230816T080906Z
LAST-MODIFIED:20230919T060944Z
UID:5495-1695772800-1695945599@wtc-turku.fi
SUMMARY:NORDIC BUSINESS FORUM 2023 - Independently Organized Live Stream Event
DESCRIPTION:Livestriimaus on englanninkielinen. \nJoin us for the best remote days of the year! \nFollowing the success of our 2022 live stream event\, WTC Turku is again this year partnering with Visitor and Innovation Centre Joki and Turku Science Park to bring you the opportunity to work remotely from the prestigious and modern working spaces of Joki in between of listening to amazing talks and networking with other participants! \nWhy should you attend? \n\nBusiness & Personal Development – The NBF live stream features top business experts and speakers who share their success stories and expertise in business and leadership. You will gain ideas and inspiration for your business and personal development. Joining our event will help you improve your skills\, grow your business\, and provide guidelines and tips on where to focus on in the future.\nTeam Building & Inspiration – Attending NBF live stream with your team can help you create a better future for your company. It can accelerate your team’s growth and development\, expose them to new perspectives\, inspiration\, and ideas\, and ultimately lead to the growth and development of your company.The event also offers participants a chance to take a break from their regular duties\, focus on personal development\, network with peers\, and enjoy remote work in an inspiring environment.\nNetworking – We bring together a great mix of professionals in the Turku region\, including decision-makers and business owners\, creating a community of individuals who aspire to learn from one another and build strong networks.\n\nAgenda \nWednesday 27.9. \n11:45 Welcome\n12:00 Sessions start (the organizers recommend Patrick Lencioni – Teamwork Simplified)\n13:45 Remote work / networking\n14:40 Sessions continue (the organizers recommend Rebecca Henderson – Reimagining Capitalism in a World on Fire at 15:25)\n16:15 Remote work / networking\n17:10 Sessions continue ( the organizers recommend Mo Gawdat – AI Today\, Tomorrow and How You Can Save Our World at 17:40)\n19:00 End of program day one\n\nThursday 28.9. \n9:45  Sessions start (the organizers recommend Tim Ferriss – Productivity & Innovation at 10:25)\n11:00 Lunch at Bistro Elli – please note that the attendees pay for their own food. The restaurant is located on the ground floor of Sokos Hotel Kupittaa at Joukahaisenkatu 6\, 20520 Turku.\n12:30 Sessions continue (the organizers recommend Amy Webb – The Futures of Artificial Intelligence at 12:30)\n13:50 Remore work / networking\n14:45 Sessions continue (the organizers recommend Malala Yousafzai – Creating Change at 15.15)\n16:00 End of program\nDon’t forget that you won’t be swamped with two days’ worth of work after this event\, since Joki offers you the opportunity to utilize the modern and beautiful working spaces during these days. You’ll be able to work remotely in between all the networking and listening to world-class speakers and inspiring talks. Take the opportunity to set up a lunch date with other participants\, catch up with the organizers during the coffee break or have a meeting before or after the program! \nThere’s limited number of seats available\, so register now!
URL:https://wtc-turku.fi/event/nordic-business-forum-2023-independently-organized-live-stream-event/
LOCATION:Vierailukeskus Joki\, Lemminkäisenkatu 12B\, Turku\, Suomi
ATTACH;FMTTYPE=image/jpeg:https://wtc-turku.fi/wp-content/uploads/2023/08/NBF2023.jpg
END:VEVENT
END:VCALENDAR