BEGIN:VCALENDAR
VERSION:2.0
PRODID:-//WTC Turku - ECPv6.15.20//NONSGML v1.0//EN
CALSCALE:GREGORIAN
METHOD:PUBLISH
X-WR-CALNAME:WTC Turku
X-ORIGINAL-URL:https://wtc-turku.fi
X-WR-CALDESC:Tapahtumat WTC Turku
REFRESH-INTERVAL;VALUE=DURATION:PT1H
X-Robots-Tag:noindex
X-PUBLISHED-TTL:PT1H
BEGIN:VTIMEZONE
TZID:Europe/Helsinki
BEGIN:DAYLIGHT
TZOFFSETFROM:+0200
TZOFFSETTO:+0300
TZNAME:EEST
DTSTART:20220327T010000
END:DAYLIGHT
BEGIN:STANDARD
TZOFFSETFROM:+0300
TZOFFSETTO:+0200
TZNAME:EET
DTSTART:20221030T010000
END:STANDARD
BEGIN:DAYLIGHT
TZOFFSETFROM:+0200
TZOFFSETTO:+0300
TZNAME:EEST
DTSTART:20230326T010000
END:DAYLIGHT
BEGIN:STANDARD
TZOFFSETFROM:+0300
TZOFFSETTO:+0200
TZNAME:EET
DTSTART:20231029T010000
END:STANDARD
BEGIN:DAYLIGHT
TZOFFSETFROM:+0200
TZOFFSETTO:+0300
TZNAME:EEST
DTSTART:20240331T010000
END:DAYLIGHT
BEGIN:STANDARD
TZOFFSETFROM:+0300
TZOFFSETTO:+0200
TZNAME:EET
DTSTART:20241027T010000
END:STANDARD
END:VTIMEZONE
BEGIN:VEVENT
DTSTART;TZID=Europe/Helsinki:20231011T140000
DTEND;TZID=Europe/Helsinki:20231011T153000
DTSTAMP:20260422T024008
CREATED:20230607T082423Z
LAST-MODIFIED:20230911T122437Z
UID:5419-1697032800-1697038200@wtc-turku.fi
SUMMARY:WTC & EEN iltapäivä: Yhdysvaltain markkinat
DESCRIPTION:HUOM: tämä tilaisuus on englanniksi. \nReview of the USA business environmet. \nThe event is meant for everyone\, who is planning to start doing or continue growing their business in the USA. \nExperts share their experiences and views on the USA market providing attendees tips\, best practices and concrete support and possibilities. \nSpeakers: \nMs. Terri Lee Tyminski\, Senior Commercial Officer / U.S. Embassy Finland \nMs. Frida Kuusiluoma\, Portfolio Manager SelectUSA / U.S. Embassy Finland \n\nMr. Mike Klyszeiko\, Director\, Launchpad USA / Amcham Finland  \n\nDr. Ismo Kauppinen\, CEO / Gasera Ltd \nThe event starts at 14.00 with coffee and networking. The speakers share their views starting at 14.15\, and after 15.00 there’s time to further discuss with the speakers and network with the attendees. \nYou may also take the opportunity to set a 1:1 meeting with the U.S. Embassy representatives before or after the event. Make sure to the check the relevant box in the registration form\, and we’ll be in contact with you to agree on the meeting time. \nThe event is free of charge and open to everyone\, but requires an advance registration here.
URL:https://wtc-turku.fi/event/wtc-een-iltapaiva-yhdysvaltain-markkinat/
LOCATION:Vierailukeskus Joki\, Lemminkäisenkatu 12B\, Turku\, Suomi
ATTACH;FMTTYPE=image/jpeg:https://wtc-turku.fi/wp-content/uploads/2023/06/WTC-EEN-Afternoon-The-USA-Market.jpg
END:VEVENT
BEGIN:VEVENT
DTSTART;TZID=Europe/Helsinki:20231026T130000
DTEND;TZID=Europe/Helsinki:20231026T143000
DTSTAMP:20260422T024008
CREATED:20230925T104843Z
LAST-MODIFIED:20231023T163934Z
UID:5536-1698325200-1698330600@wtc-turku.fi
SUMMARY:WTC-EEN tilaisuus: Kanadan markkinamahdollisuudet
DESCRIPTION:Haluatko tietää\, mitä mahdollisuuksia Kanadan markkinat tarjoavat alueemme yrityksille? Tule kuuntelemaan asiantuntijapuhujaa Kanadan suurlähetystöstä ja saamaan vinkkejä kulttuurista\, liiketoimintaympäristöstä\, markkinamahdollisuuksista ja vapaakauppasopimuksesta. Tapahtuma on englanniksi ja tarkoitettu kaikille\, jotka ovat kiinnostuneita Kanadan markkinoista tai harkitsevat sinne laajentumista. \nTapahtuman puhuja on Kanadan suurlähettiläs Jeanette Stovel. Hän kertoo\, mitä Kanada tarjoaa suomalaisille yrityksille ja miten hyödyntää vapaakauppasopimusta\, joka poistaa lähes kaikki tullit ja helpottaa palvelujen ja investointien liikkuvuutta. Tapahtumassa on mukana myös Senior Trade Commissioner Clinton Martin ja Trade Commissioner Seppo Vihersaari. \nLäsnäolotilaisuus on avoin kaikille ja maksuton\, mutta edellyttää ennakkoilmoittautumista tästä linkistä. \nTervetuloa verkostoitumaan\, kuulemaan ja keskustelemaan Kanadan markkinoista! \nTapahtuma järjestetään yhteistyössä Enterprise Europe Networkin kanssa.
URL:https://wtc-turku.fi/event/kanadan-markkinamahdollisuudet/
LOCATION:Vierailukeskus Joki\, Lemminkäisenkatu 12B\, Turku\, Suomi
ATTACH;FMTTYPE=image/jpeg:https://wtc-turku.fi/wp-content/uploads/2023/09/Toronto-skyline.jpg
END:VEVENT
END:VCALENDAR